BEGIN:VCALENDAR
VERSION:2.0
PRODID:-//ChamberMaster//Event Calendar 2.0//EN
METHOD:PUBLISH
X-PUBLISHED-TTL:P3D
REFRESH-INTERVAL:P3D
CALSCALE:GREGORIAN
BEGIN:VEVENT
DTSTART:20210916T200000Z
DTEND:20210916T210000Z
X-MICROSOFT-CDO-ALLDAYEVENT:FALSE
SUMMARY:Ribbon Cutting Ceremony: Fitzgerald Dance & Fitness (CMS Chamber)
DESCRIPTION:You're Invited!\n\nRibbon Cutting Ceremony: Fitzgerald Dance & Fitness\n\nThursday\, September 16 at 4:00pm\n\n71 Main Street (Rte 131)\, Sturbridge\n\n\n\nJoin the Chamber of Central Mass South\, local dignitaries\, our neighbors and guests as we offer a warm welcome to our community to our newest Member\, Fitzgerald Dance & Fitness!\n\n\n\nFitzgerald Dance & Fitness\, where the love of dance has no age limit\, nor expiration date! Their mission is to create a love of dance by fostering creativity and artistry for all ages\, from children to adults.\n\n\n\nTheir school aged program offers an array of programs which include\, the Royal Academy of Dance (RAD) technique for ballet\, Latin dance\, Contemporary\, Jazz\, Hip Hop\, and a Competition Group.\n\n\n\nFitzgerald is also proud to present FD&F After Dark\, which is an adult program. This unique program gives adults the chance to learn social Ballroom/Latin\, Adult Ballet\, Total Barre Fitness and Yoga. These classes are designed specifically for adults who are looking to exercise and socialize in a fun way! Also to note\, the Ballroom/Latin classes do not need a partner to join!\n\n\n\nCome\, witness the cutting of the official red ribbon\, tour the studio\, meet the staff\, enjoy light refreshments and take a chance at cool raffle prizes! We hope to see you there!\n\n\n\nContact Fitzgerald Dance & Fitness by phone at 774-441-0232.\n\nVisit online at www.fitzgeralddanceandfitness.com\n\n\n\nNo charge! No RSVP necessary for the ceremony! Just come on by!
X-ALT-DESC;FMTTYPE=text/html:<em>You&#39\;re Invited!</em><br />\n<strong>Ribbon Cutting Ceremony: Fitzgerald Dance &amp\; Fitness<br />\nThursday\, September 16 at 4:00pm</strong><br />\n71 Main Street (Rte 131)\, Sturbridge<br />\n<br />\nJoin the Chamber of Central Mass South\, local dignitaries\, our neighbors and guests as we offer a warm welcome to our community to our newest Member\, Fitzgerald Dance &amp\; Fitness!<br />\n<br />\nFitzgerald Dance &amp\; Fitness\, where the love of dance has no age limit\, nor expiration date! Their mission is to create a love of dance by fostering creativity and artistry for all ages\, from children to adults.<br />\n<br />\nTheir school aged program offers an array of programs which include\, the Royal Academy of Dance (RAD) technique for ballet\, Latin dance\, Contemporary\, Jazz\, Hip Hop\, and a Competition Group.<br />\n<br />\nFitzgerald is also proud to present FD&amp\;F After Dark\, which is an adult program. This unique program gives adults the chance to learn social Ballroom/Latin\, Adult Ballet\, Total Barre Fitness and Yoga. These classes are designed specifically for adults who are looking to exercise and socialize in a fun way! Also to note\, the Ballroom/Latin classes do not need a partner to join!<br />\n<br />\nCome\, witness the cutting of the official red ribbon\, tour the studio\, meet the staff\, enjoy light refreshments and take a chance at cool raffle prizes! We hope to see you there!<br />\n<br />\nContact Fitzgerald Dance &amp\; Fitness by phone at 774-441-0232.<br />\nVisit online at www.fitzgeralddanceandfitness.com<br />\n<br />\n<em>No charge! No RSVP necessary for the ceremony! Just come on by!</em>
LOCATION:Fitzgerald Dance & Fitness 71 Main Street (Rte 131)\, Sturbridge
UID:e.2083.13142
SEQUENCE:3
DTSTAMP:20260422T091353Z
URL:https://business.cmschamber.org/events/details/ribbon-cutting-ceremony-fitzgerald-dance-fitness-cms-chamber-13142
END:VEVENT

END:VCALENDAR
