BEGIN:VCALENDAR
VERSION:2.0
PRODID:-//ChamberMaster//Event Calendar 2.0//EN
METHOD:PUBLISH
X-PUBLISHED-TTL:P3D
REFRESH-INTERVAL:P3D
CALSCALE:GREGORIAN
BEGIN:VEVENT
DTSTART:20230926T204500Z
DTEND:20230926T230000Z
X-MICROSOFT-CDO-ALLDAYEVENT:FALSE
SUMMARY:Ribbon Cutting & Fun at Five at Gido’s Brick Oven Pizza & Ice Cream
DESCRIPTION:A Ribbon Cutting & Fun at Five!\n\nGido's Brick Oven Pizza & Ice Cream\n\nTuesday\, Sept 26\, 2023\n\n367 Main Street\, Sturbridge\, (508) 213-3229\n\nwww.facebook.com/GidosBrickOven\n\n\n\nDiscover Gido's at Fun at Five!\n\nIt's official! Gido's Brick Oven Pizza & Ice Cream is OPEN in Sturbridge! Join us there for a Ribbon Cutting at 4:45. Stay for fall networking at 5:00! Long in the works\, Teddy and Jenna can't wait to welcome you to their new restaurant which features a friendly staff\, spacious outdoor seating\, a full bar\, delicious ice cream and of course\, amazing brick oven pizza... and much more! Gido's is located on the site of the former Sturbridge Friendly's.\n\n\n\nRibbon Cutting at 4:45pm!\n\nBefore the Fun at Five\, attend a Ribbon Cutting ceremony presented by the Chamber of Central Mass South. Witness presentations by local dignitaries and the satisfying snip of the official red ribbon!\n\nWe greatly appreciate your support of this new business and hope to see you there!\n\nThere is no cost to attend the ribbon cutting.\n\n\n\nRegister for the Fun at Five networking event by email or phone. 508-347-2761\n\nCost to attend Fun at Five is $12 for Members who pre-register\, $15 at the door\, or $20 for non-Members.\n\n\n\nThank you to our September Fun at Five Sponsor!\n\nThe Center of Hope Foundation\, Inc.\n\n\n\nFor over 66 years\, The Center of Hope Foundation\, Inc. has served individuals with intellectual and developmental disabilities from 64 towns in South Central MA and Northeastern CT.\n\n\n\nThe mission of the Center of Hope Foundation is to provide people with disabilities and their families from different cultural and ethnic backgrounds with the resources\, services\, and opportunities to be contributing members of their communities and to achieve the most fulfilling and meaningful lives possible. This is achieved through day programs\, employment support\, in-home support\, residential\, and advocacy.\n\n\n\nThe Center of Hope's small businesses are designed as training facilities and work experience opportunities for program members. These businesses offer services directly to the local community and provide additional funding for programs. Every business is staffed by experienced workers who are licensed\, certified\, and/or trained in the business. Core employees ensure a high-quality product or service\, which provides an important set of affordable resources for our community. www.thecenterofhope.org
X-ALT-DESC;FMTTYPE=text/html:<strong>A Ribbon Cutting &amp\; Fun at Five!<br />\nGido&rsquo\;s Brick Oven Pizza &amp\; Ice Cream</strong><br />\nTuesday\, Sept 26\, 2023<br />\n367 Main Street\, Sturbridge\, (508) 213-3229<br />\nwww.facebook.com/GidosBrickOven<br />\n<br />\n<strong>Discover Gido&#39\;s at Fun at Five!</strong><br />\nIt&#39\;s official! Gido&#39\;s Brick Oven Pizza &amp\; Ice Cream is OPEN in Sturbridge! Join us there for a Ribbon Cutting at 4:45. Stay for fall networking at 5:00! Long in the works\, Teddy and Jenna can&#39\;t wait to welcome you to their new restaurant which features a friendly staff\, spacious outdoor seating\, a full bar\, delicious ice cream and of course\, amazing brick oven pizza... and much more! Gido&#39\;s is located on the site of the former Sturbridge Friendly&#39\;s.<br />\n<br />\n<strong>Ribbon Cutting at 4:45pm!</strong><br />\nBefore the Fun at Five\, attend a Ribbon Cutting ceremony presented by the Chamber of Central Mass South. Witness presentations by local dignitaries and the satisfying snip of the official red ribbon!<br />\nWe greatly appreciate your support of this new business and hope to see you there!<br />\nThere is no cost to attend the ribbon cutting.<br />\n<br />\nRegister for the Fun at Five networking event by email or phone. 508-347-2761<br />\nCost to attend Fun at Five is $12 for Members who pre-register\, $15 at the door\, or $20 for non-Members.<br />\n<br />\n<strong>Thank you to our September Fun at Five Sponsor!<br />\nThe Center of Hope Foundation\, Inc.</strong><br />\n<br />\nFor over 66 years\, The Center of Hope Foundation\, Inc. has served individuals with intellectual and developmental disabilities from 64 towns in South Central MA and Northeastern CT.<br />\n<br />\nThe mission of the Center of Hope Foundation is to provide people with disabilities and their families from different cultural and ethnic backgrounds with the resources\, services\, and opportunities to be contributing members of their communities and to achieve the most fulfilling and meaningful lives possible. This is achieved through day programs\, employment support\, in-home support\, residential\, and advocacy.<br />\n<br />\nThe Center of Hope&rsquo\;s small businesses are designed as training facilities and work experience opportunities for program members. These businesses offer services directly to the local community and provide additional funding for programs. Every business is staffed by experienced workers who are licensed\, certified\, and/or trained in the business. Core employees ensure a high-quality product or service\, which provides an important set of affordable resources for our community. www.thecenterofhope.org<br />\n&nbsp\;
LOCATION:Gido's Brick Oven Pizza & Ice Cream 367 Main Street\, Sturbridge
UID:e.2083.16458
SEQUENCE:3
DTSTAMP:20260420T190915Z
URL:https://business.cmschamber.org/events/details/ribbon-cutting-fun-at-five-at-gido-s-brick-oven-pizza-ice-cream-16458
END:VEVENT

END:VCALENDAR
