BEGIN:VCALENDAR
VERSION:2.0
PRODID:-//ChamberMaster//Event Calendar 2.0//EN
METHOD:PUBLISH
X-PUBLISHED-TTL:P3D
REFRESH-INTERVAL:P3D
CALSCALE:GREGORIAN
BEGIN:VEVENT
DTSTART:20230628T143000Z
DTEND:20230628T153000Z
X-MICROSOFT-CDO-ALLDAYEVENT:FALSE
SUMMARY:Rockland Trust Webinar: Inflation-Proofing Your Business
DESCRIPTION:With recent record-breaking interest rates\, how does your business position itself to succeed   even despite the economic climate? \n\n \n\nJoin Rockland Trust on June 28 at 10:30 a.m. for their webinar\, Inflation-Proofing Your Business\, for a discussion of the ways your business can most effectively manage its revenue in 2023. Register today
X-ALT-DESC;FMTTYPE=text/html:<span style="font-size:11.0pt">With recent record-breaking interest rates\, how does your business position itself to succeed &ndash\; even despite the economic climate? </span><br />\n&nbsp\;<br />\n<span style="font-size:11.0pt">Join Rockland Trust on June 28 at 10:30 a.m. for their webinar\, Inflation-Proofing Your Business\, for a discussion of the ways your business can most effectively manage its revenue in 2023. Register today</span>
LOCATION:Zoom Link to Register: https://rocklandtrust.zoom.us/webinar/register/3316856281733/WN_BUSYuVPTSyW4BjdaZ3snLg
UID:e.2083.15976
SEQUENCE:3
DTSTAMP:20260421T005207Z
URL:https://business.cmschamber.org/events/details/rockland-trust-webinar-inflation-proofing-your-business-15976
END:VEVENT

END:VCALENDAR
