BEGIN:VCALENDAR
VERSION:2.0
PRODID:-//ChamberMaster//Event Calendar 2.0//EN
METHOD:PUBLISH
X-PUBLISHED-TTL:P3D
REFRESH-INTERVAL:P3D
CALSCALE:GREGORIAN
BEGIN:VEVENT
DTSTART:20230614T160000Z
DTEND:20230614T170000Z
X-MICROSOFT-CDO-ALLDAYEVENT:FALSE
SUMMARY:RPIC (Retirement\, Planning\, and Investment Center)
DESCRIPTION:This presentation will focus on the importance of retirement\, planning\, and investment options for individuals and businesses. During this session we will focus on:\n\n         1) Retirement options\n\n         2) Investment Benefits\n\n         3) Insurance options
X-ALT-DESC;FMTTYPE=text/html:<p>This presentation will focus on the importance of retirement\, planning\, and investment options for individuals and businesses. During this session we will focus on:</p>\n\n<p>&nbsp\;&nbsp\;&nbsp\;&nbsp\;&nbsp\;&nbsp\;&nbsp\;&nbsp\; 1) Retirement options</p>\n\n<p>&nbsp\;&nbsp\;&nbsp\;&nbsp\;&nbsp\;&nbsp\;&nbsp\;&nbsp\; 2) Investment Benefits</p>\n\n<p>&nbsp\;&nbsp\;&nbsp\;&nbsp\;&nbsp\;&nbsp\;&nbsp\;&nbsp\; 3) Insurance options</p>\n
LOCATION:Zoom
UID:e.2083.15960
SEQUENCE:3
DTSTAMP:20260421T005113Z
URL:https://business.cmschamber.org/events/details/rpic-retirement-planning-and-investment-center-15960
END:VEVENT

END:VCALENDAR
