BEGIN:VCALENDAR
VERSION:2.0
PRODID:-//ChamberMaster//Event Calendar 2.0//EN
METHOD:PUBLISH
X-PUBLISHED-TTL:P3D
REFRESH-INTERVAL:P3D
CALSCALE:GREGORIAN
BEGIN:VEVENT
DTSTART:20231105T150000Z
DTEND:20231105T180000Z
X-MICROSOFT-CDO-ALLDAYEVENT:FALSE
SUMMARY:Run4Veterans- 5K Road Race
DESCRIPTION:We are excited to invite everyone back to participate in the 2023 Run4Veterans 5k Road Race with Veterans Inc.! We look forward to a fun morning of activity in support of Veterans and their families in need. Registration begins at 8am. Race will begin at 10:30am at the start/finish line in front of Wormtown Brewery\, on Shrewsbury St.! Help us do more for the Veterans we serve while enjoying downtown Worcester! Run to win\, walk for fun\, but most importantly sign up and have fun for a good cause!\n\n															All Fitness Levels. Walk\, Run\, or Roll!\n\n															All Pre-Registrants (before 10/15) will receive a commemorative event running shirt\, and all participants will enjoy food\, music\, prizes\, and a FREE beer after the race. If you can't make it in person this year\, we are offering a virtual sign-up option as well! Just run a 5k before the deadline\, submit your times\, and we will recognize your participation and honor the virtual winner alongside the in-person honorees.
X-ALT-DESC;FMTTYPE=text/html:<div>\n<div>\n<table border="0" cellpadding="0" cellspacing="0" style="background-image:url(&quot\;https://imgssl.constantcontact.com/letters/images/backgrounds/chevrongrid.png&quot\;)\; font:inherit\; width:100%">\n	<tbody>\n		<tr>\n			<td>\n			<table align="center" border="0" cellpadding="0" cellspacing="0" style="font:inherit\; width:640px">\n				<tbody>\n					<tr>\n						<td>\n						<table align="center" border="0" cellpadding="0" cellspacing="0" style="font:inherit\; width:100%">\n							<tbody>\n								<tr>\n									<td style="background-color:white">\n									<table border="0" cellpadding="0" cellspacing="0" style="font:inherit\; table-layout:fixed\; width:100%">\n										<tbody>\n											<tr>\n												<td style="width:600.8px">\n												<table border="0" cellpadding="0" cellspacing="0" style="font:inherit\; table-layout:fixed\; width:100%">\n													<tbody>\n														<tr>\n															<td>\n															<p style="text-align:justify"><span style="color:rgb(51\, 51\, 51)\; font-family:roboto\,sans-serif\,serif\,emojifont\; font-size:14px">We are excited to invite everyone back to participate in the 2023 Run4Veterans 5k Road Race with Veterans Inc.! We look forward to a fun morning of activity in support of Veterans and their families in need. Registration begins at 8am. Race will begin at 10:30am at the start/finish line in front of Wormtown Brewery\, on Shrewsbury St.! Help us do more for the Veterans we serve while enjoying downtown Worcester! Run to win\, walk for fun\, but most importantly sign up and have fun for a good cause!</span></p>\n\n															<p style="text-align:center"><em>All Fitness Levels. Walk\, Run\, or Roll!</em></p>\n\n															<p style="text-align:justify"><span style="color:rgb(51\, 51\, 51)\; font-family:roboto\,sans-serif\,serif\,emojifont\; font-size:14px">All Pre-Registrants (before 10/15) will receive a commemorative event running shirt\, and all participants will enjoy food\, music\, prizes\, and a FREE beer after the race. If you can&rsquo\;t make it in person this year\, we are offering a virtual sign-up option as well! Just run a 5k before the deadline\, submit your times\, and we will recognize your participation and honor the virtual winner alongside the in-person honorees.</span><br />\n															&nbsp\;</p>\n															</td>\n														</tr>\n													</tbody>\n												</table>\n												</td>\n											</tr>\n										</tbody>\n									</table>\n									</td>\n								</tr>\n							</tbody>\n						</table>\n						</td>\n					</tr>\n				</tbody>\n			</table>\n			</td>\n		</tr>\n	</tbody>\n</table>\n</div>\n</div>\n
LOCATION:Start and Finish line will be in front of Wormtown Brewery\, 72 Shrewsbury St. Worcester\, MA.
UID:e.2083.16442
SEQUENCE:3
DTSTAMP:20260420T170955Z
URL:https://business.cmschamber.org/events/details/run4veterans-5k-road-race-16442
END:VEVENT

END:VCALENDAR
