BEGIN:VCALENDAR
VERSION:2.0
PRODID:-//ChamberMaster//Event Calendar 2.0//EN
METHOD:PUBLISH
X-PUBLISHED-TTL:P3D
REFRESH-INTERVAL:P3D
CALSCALE:GREGORIAN
BEGIN:VEVENT
DTSTART:20221102T220000Z
DTEND:20221102T230000Z
X-MICROSOFT-CDO-ALLDAYEVENT:FALSE
SUMMARY:Runner's Foot & Ankle Health Workshop
DESCRIPTION:FREE WORKSHOP on foot and ankle health for runner's! If you are an avid runner\, novice runner\, or wannabe runner CLASH has GOT you. This is an often-overlooked part of the body\, especially when it comes to running and it will affect the impact forces you experience at your knees\, hips\, and low back. Clash wants to help keep you on the road and trails without pain or limitation so you can hit those mileage PRS or run your first 5K!
X-ALT-DESC;FMTTYPE=text/html:FREE WORKSHOP on foot and ankle health for runner&#39\;s! If you are an avid runner\, novice runner\, or wannabe runner CLASH has GOT you. This is an often-overlooked part of the body\, especially when it comes to running and it will affect the impact forces you experience at your knees\, hips\, and low back. Clash wants to help keep you on the road and trails without pain or limitation so you can hit those mileage PRS or run your first 5K!
LOCATION:3 Brussels Street\, Suite 214\, Worcester\, Ma
UID:e.2083.14758
SEQUENCE:3
DTSTAMP:20260421T125728Z
URL:https://business.cmschamber.org/events/details/runner-s-foot-ankle-health-workshop-14758
END:VEVENT

END:VCALENDAR
