BEGIN:VCALENDAR
VERSION:2.0
PRODID:-//ChamberMaster//Event Calendar 2.0//EN
METHOD:PUBLISH
X-PUBLISHED-TTL:P3D
REFRESH-INTERVAL:P3D
CALSCALE:GREGORIAN
BEGIN:VEVENT
DTSTART:20230316T160000Z
DTEND:20230316T173000Z
X-MICROSOFT-CDO-ALLDAYEVENT:FALSE
SUMMARY:Save Your Website Dollars: What to Prepare BEFORE You Hire a Website Designer
DESCRIPTION:This interactive class series will walk you through the steps to prepare you as you create your ideal website. Creating a website can be costly and with proper preparation it can be faster\, easier\, less stressful and less expensive. Yes\, you can do it yourself\, but armed with up to date information\, templates and a plan this method gives you time to think and plan and save.
X-ALT-DESC;FMTTYPE=text/html:<span style="color:rgb(0\, 0\, 0)\; font-family:lato\,arial\,helvetica\,sans-serif\; font-size:16px">This interactive class series will walk you through the steps to prepare you as you create&nbsp\;your&nbsp\;ideal&nbsp\;website. Creating a&nbsp\;website&nbsp\;can be costly and with proper preparation it can be faster\, easier\, less stressful and less expensive. Yes\, you can do it&nbsp\;yourself\, but armed with up to date information\, templates and a plan this method gives you time to think and plan and&nbsp\;save.&nbsp\;&nbsp\;</span>\n<div>&nbsp\;</div>\n
LOCATION:Zoom
UID:e.2083.15446
SEQUENCE:3
DTSTAMP:20260421T060104Z
URL:https://business.cmschamber.org/events/details/save-your-website-dollars-what-to-prepare-before-you-hire-a-website-designer-03-16-2023-15446
END:VEVENT

END:VCALENDAR
