BEGIN:VCALENDAR
VERSION:2.0
PRODID:-//ChamberMaster//Event Calendar 2.0//EN
METHOD:PUBLISH
X-PUBLISHED-TTL:P3D
REFRESH-INTERVAL:P3D
CALSCALE:GREGORIAN
BEGIN:VEVENT
DTSTART:20230325T200000Z
DTEND:20230326T010000Z
X-MICROSOFT-CDO-ALLDAYEVENT:FALSE
SUMMARY:Second Chance 24th Annual Dinner Auction
DESCRIPTION:Help homeless pets get the care they need!  Join Second Chance for an evening of fun featuring hundreds of items up for bid and raffle.  Cocktails: 4-6pm Dinner & Auction 6-9pm.  Proceeds provide veterinary care for homeless shelter pets who need a 'Second Chance.' Sponsorships and item donations welcome.  Visit secondchanceanimals.org/dinner-auction for more information or to purchase tickets.
X-ALT-DESC;FMTTYPE=text/html:Help homeless pets get the care they need! &nbsp\;Join Second Chance for an evening of fun featuring hundreds of items up for bid and raffle. &nbsp\;Cocktails: 4-6pm Dinner &amp\; Auction 6-9pm. &nbsp\;Proceeds provide veterinary care for homeless shelter pets who need a &#39\;Second Chance.&#39\;&nbsp\;Sponsorships and item donations welcome. &nbsp\;Visit secondchanceanimals.org/dinner-auction for more information or to purchase tickets.
LOCATION:Southbridge Hotel & Conference Center 14 Mechanic Street\, Southbridge
UID:e.2083.15073
SEQUENCE:3
DTSTAMP:20260421T074720Z
URL:https://business.cmschamber.org/events/details/second-chance-24th-annual-dinner-auction-15073
END:VEVENT

END:VCALENDAR
