BEGIN:VCALENDAR
VERSION:2.0
PRODID:-//ChamberMaster//Event Calendar 2.0//EN
METHOD:PUBLISH
X-PUBLISHED-TTL:P3D
REFRESH-INTERVAL:P3D
CALSCALE:GREGORIAN
BEGIN:VEVENT
DTSTART:20210913T200000Z
DTEND:20210914T000000Z
X-MICROSOFT-CDO-ALLDAYEVENT:FALSE
SUMMARY:Security Innovation Showcase at Smashit2
DESCRIPTION:Networking Event\n\n\n\nDiscover the power of collaborative innovation with Access It! \n\nUniversal and Complete View 20/20 and our bi-directional integration. A comprehensive tour of the technology\, benefits and how to secure your client's sites better followed by some run in our Smashrooms. \n\n\n\nPresented By: RS2 Technologies and Salient \n\nContact: Jason Kallio \n\n508-865-1423\n\nEmail: jkallio@rs2tech.com\n\n	Exclusive Tech Presentation \n	Live Demos \n	Exclusive Giveaways \n	Exclusive Pricing \n	Food\, Drinks and a Smashroom Experience
X-ALT-DESC;FMTTYPE=text/html:Networking Event<br />\n<br />\nDiscover the power of collaborative innovation with Access It!&nbsp\;<br />\nUniversal and Complete View 20/20 and our bi-directional integration. A comprehensive tour of the technology\, benefits and how to secure your client&#39\;s sites better followed by some run in our Smashrooms.&nbsp\;<br />\n<br />\nPresented By: RS2 Technologies and Salient&nbsp\;<br />\nContact: Jason Kallio&nbsp\;<br />\n508-865-1423<br />\nE<span style="color:#1f497d">mail: </span><a href="mailto:jkallio@rs2tech.com">jkallio@rs2tech.com</a>\n<ul>\n	<li>Exclusive Tech Presentation&nbsp\;</li>\n	<li>Live Demos&nbsp\;</li>\n	<li>Exclusive Giveaways&nbsp\;</li>\n	<li>Exclusive Pricing&nbsp\;</li>\n	<li>Food\, Drinks and a Smashroom Experience&nbsp\;</li>\n</ul>\n<br />\n&nbsp\;
LOCATION:Location: Smashit2 49 Canterbury St Worcester https://smashit2.com/
UID:e.2083.13144
SEQUENCE:3
DTSTAMP:20260422T085852Z
URL:https://business.cmschamber.org/events/details/security-innovation-showcase-at-smashit2-13144
END:VEVENT

END:VCALENDAR
