BEGIN:VCALENDAR
VERSION:2.0
PRODID:-//ChamberMaster//Event Calendar 2.0//EN
METHOD:PUBLISH
X-PUBLISHED-TTL:P3D
REFRESH-INTERVAL:P3D
CALSCALE:GREGORIAN
BEGIN:VEVENT
DTSTART:20230913T120000Z
DTEND:20230913T210000Z
X-MICROSOFT-CDO-ALLDAYEVENT:FALSE
SUMMARY:Self-Made Entrepreneur Conference
DESCRIPTION:Are you an entrepreneur who wants to propel your idea\, side hustle or small business forward? Perfect\, you'll be in good company!\n\nIntroducing New England's premier entrepreneur conference that is intentionally arriving in the lovely city of Worcester\, MA. It is set to attract more than 1\,000 entrepreneurs\, small business owners and visionaries with their business ideas in hand. This full-day conference is designed to offer attendees inspiration\, education\, motivation and connection that will enable them to propel their businesses forward. This will be achieved by providing the tools\, expertise and resources entrepreneurs need to make their ideas sustainable.\n\n \n\nAttendees will enjoy memorable keynotes and impactful workshops from expert speakers\, inspiring words from thought leaders and learn the secrets of success from real-life local entrepreneurs. They will also have access to make connections with a hand-picked community of local organizations\, investors and mentors that support the journey of entrepreneurship.\n\n \n\nLooking for more? You're in luck. Your attendee ticket gives you access to continue the fun at our exclusive Entrepreneur After Hour Reception located at a trendy venue a few blocks away from the DCU Center. Continue the networking over good music\, light apps and drinks.
X-ALT-DESC;FMTTYPE=text/html:<div><em><strong>Are you an entrepreneur who wants to propel your idea\, side hustle or small business forward? Perfect\, you&#39\;ll be in good company!</strong></em></div>\n\n<div>Introducing New England&#39\;s premier entrepreneur conference that is intentionally arriving in the lovely city of Worcester\, MA. It is set to attract more than 1\,000 entrepreneurs\, small business owners and visionaries with their business ideas in hand. This full-day conference is designed to offer attendees inspiration\, education\, motivation and connection that will enable them to propel their businesses forward. This will be achieved by providing the tools\, expertise and resources entrepreneurs need to make their ideas sustainable.</div>\n\n<p>&nbsp\;</p>\n\n<div>Attendees will enjoy memorable keynotes and impactful workshops from expert speakers\, inspiring words from thought leaders and learn the secrets of success from real-life local entrepreneurs. They will also have access to make connections with a hand-picked community of local organizations\, investors and mentors that support the journey of entrepreneurship.</div>\n\n<p>&nbsp\;</p>\n\n<div>Looking for more? You&#39\;re in luck. Your attendee ticket gives you access to continue the fun at our exclusive Entrepreneur After Hour Reception located at a trendy venue a few blocks away from the DCU Center. Continue the networking over good music\, light apps and drinks.</div>\n
LOCATION:DCU Center 50 Foster Street Worcester\, MA
UID:e.2083.14970
SEQUENCE:3
DTSTAMP:20260420T190427Z
URL:https://business.cmschamber.org/events/details/self-made-entrepreneur-conference-14970
END:VEVENT

END:VCALENDAR
