BEGIN:VCALENDAR
VERSION:2.0
PRODID:-//ChamberMaster//Event Calendar 2.0//EN
METHOD:PUBLISH
X-PUBLISHED-TTL:P3D
REFRESH-INTERVAL:P3D
CALSCALE:GREGORIAN
BEGIN:VEVENT
DTSTART:20211214T130000Z
DTEND:20211214T140000Z
X-MICROSOFT-CDO-ALLDAYEVENT:FALSE
SUMMARY:Seminar Series: Making the most of your Chamber membership
DESCRIPTION:The Worcester Regional Chamber understands that businesses join the organization for a variety of reasons. So\, we have created three levels of membership with increasing levels of  benefits to meet the needs of businesses or all sizes\, industries\, and reasons for joining.\n\n\n\nJoin the Worcester Regional Chamber team at the Chambers office as they walk through each level and review all the benefits of your membership. This Seminar will also review the many resources\, networking events\, and perks available to make the most out of your membership and grow your business!\nAs of October 28\, all Chamber in person events will require a vaccine. Only those with a written religious exemption by church leadership or written medical exemption by doctor explaining previous condition which prevents them from getting the vaccine\, will be allowed to attend with a negative COVID test within 48 hours of the event.
X-ALT-DESC;FMTTYPE=text/html:<span style="font-size:14px\;"><span style="font-family:arial\;"><span style="text-transform: none\; text-indent: 0px\; letter-spacing: normal\; font-style: normal\; font-weight: 400\; word-spacing: 0px\; display: inline !important\; white-space: normal\; orphans: 2\; widows: 2\; float: none\; -webkit-text-stroke-width: 0px\; background-color: rgb(255\, 255\, 255)\;">The Worcester Regional Chamber understands that businesses join the organization for a variety of reasons. So\, we have created three levels of membership with increasing levels of &nbsp\;benefits to meet the needs of businesses or all sizes\, industries\, and reasons for joining.</span></span><br />\n<br />\nJoin the Worcester Regional Chamber team at the Chambers office as they walk through each level and review all the benefits of your membership. This Seminar will also review the many resources\, networking events\, and perks available to make the most out of your membership and grow your business!</span>\n<p><span style="font-family:arial\;"><span style="font-size:14px\;"><b><span style="background-color:#FFFF00\;">As of October 28\, all Chamber in person events will require a vaccine</span></b>.<span style="line-height: 107%\;"> Only those with a written religious exemption by church leadership or written medical exemption by doctor explaining previous condition which prevents them from getting the vaccine\, will be allowed to attend with a negative COVID test within 48 hours of the event. </span></span></span></p>\n<br />\n&nbsp\;
LOCATION:Hybrid Event: George & Sybil Fuller Conference Room Worcester Regional Chamber of Commerce 311 Main Street\, Suite 200 Worcester\, MA
UID:e.2083.12432
SEQUENCE:3
DTSTAMP:20260422T051749Z
URL:https://business.cmschamber.org/events/details/seminar-series-making-the-most-of-your-chamber-membership-12432
END:VEVENT

END:VCALENDAR
