BEGIN:VCALENDAR
VERSION:2.0
PRODID:-//ChamberMaster//Event Calendar 2.0//EN
METHOD:PUBLISH
X-PUBLISHED-TTL:P3D
REFRESH-INTERVAL:P3D
CALSCALE:GREGORIAN
BEGIN:VEVENT
DTSTART:20230426T170000Z
DTEND:20230426T220000Z
X-MICROSOFT-CDO-ALLDAYEVENT:FALSE
SUMMARY:Sherwin-Williams 2023 Vendor Pro Show
DESCRIPTION:Please join us for our annual vendor ProShow. This is an event for contractors and painters.\n\n \nLocation: Village Hall\, 2 Oak Street\, Framingham MA 01701\n\nDate: April 26\, 2023 from 2 pm to 6 pm\n\n \n\nSpecial Guests:\n\n \n\nNick Slavik from ASK THE PAINTER\n\n1 pm - 2 pm: Estimating workshop\n\n4 pm - 5 pm: Recruit\, train and retain\n\n \n\nDeb LaFlamme\n\n2:30 pm - 3:30 pm: Growing your business through Social Media\n\nNick Slavik\n\nNick Slavik is the Proprietor of the Nick Slavik Painting & Restoration Co. and Host of Ask a Painter Live. Ask a Painter Live has aired weekly for more than 5 years\, instructing on topics such as entrepreneurship\, craftsperson-ship\, trades reformation\, recruiting\, working with Millennials\, harnessing technology for trades business\, financial benchmarks\, industry standards and coating science. Nick has been a craftsman for more than 29 years. His company has been awarded more than 15 National awards for craftsmanship over the last 5 years\, including massive restorations of Victorian mansions. He has created a rigorous Apprenticeship program where he finds\, trains\, inspires and mentors young people in his craft. He is also a family member at This Old House\, where he contributes content about his craft.\n\nPCA - Master Class with Nick Slavik (pcapainted.org)\n\nDeb Laflamme\n\nDeb LaFlamme is an online business owner. She is an expert in growing a business through social media.  She understands our customer's world.  The best part   this can be done  without spending all day on social media\, feeling stuck\, pulling your hair out because you don't know what to post\, or even when or where to post.  She is passionate about helping small business owners show up online as their authentic selves and how they can attract their dream clients.\n\nhttps://ftloyb.com/\n\nVendors: \n\n\n	\n		\n			\n			3M\n			\n		\n		\n			\n			Inpro\n			\n		\n		\n			\n			Titan\n\n			Mit-M\n			\n		\n		\n			\n			Graco\n			\n		\n		\n			\n			Festool\n			\n		\n		\n			\n			Prosoco\n			\n		\n		\n			\n			Marshalltown Tools\n			\n		\n		\n			\n			BRZ Insurance\n			\n		\n		\n			\n			Diamabrush\n			\n		\n		\n			\n			Univar (Startex Solvents)\n			\n		\n		\n			\n			Paint Scout Estimating\n			\n		\n		\n			\n			Mazzotta Equipment Rentals\n			\n		\n	\n\nRaffles\n\nAll customers that attend will have to opportunity to take part in door prizes and raffles.
X-ALT-DESC;FMTTYPE=text/html:Please join us for our annual vendor ProShow. This is an event for contractors and painters.<br />\n&nbsp\;\n<div>Location: Village Hall\, 2 Oak Street\, Framingham MA 01701</div>\n\n<div>Date: April 26\, 2023 from 2 pm to 6 pm</div>\n\n<div>&nbsp\;</div>\n\n<div>Special Guests:</div>\n\n<div>&nbsp\;</div>\n\n<div>Nick Slavik from ASK THE PAINTER</div>\n\n<div>1 pm - 2 pm: Estimating workshop</div>\n\n<div>4 pm - 5 pm: Recruit\, train and retain</div>\n\n<div>&nbsp\;</div>\n\n<div>Deb LaFlamme</div>\n\n<div>2:30 pm - 3:30 pm: Growing your business through Social Media</div>\n\n<p><strong><u>Nick Slavik</u></strong></p>\n\n<p><span style="color:black">Nick Slavik is the Proprietor of the&nbsp\;Nick Slavik Painting &amp\; Restoration Co.&nbsp\;and Host of&nbsp\;Ask a Painter Live. Ask a Painter Live has aired weekly for more than 5 years\, instructing on topics such as entrepreneurship\, craftsperson-ship\, trades reformation\, recruiting\, working with Millennials\, harnessing technology for trades business\, financial benchmarks\, industry standards and coating science. Nick has been a craftsman for more than 29 years. His company has been awarded more than 15 National awards for craftsmanship over the last 5 years\, including massive restorations of Victorian mansions. He has created a rigorous Apprenticeship program where he finds\, trains\, inspires and mentors young people in his craft. He is also a family member at This Old House\, where he contributes content about his craft.</span></p>\n\n<p><span style="color:black"><a href="https://www.pcapainted.org/nick-slavik-master-class/#watch-trailer">PCA - Master Class with Nick Slavik (pcapainted.org)</a></span></p>\n\n<p><strong><u>Deb Laflamme</u></strong></p>\n\n<p>Deb LaFlamme is an online business owner. She is an expert in growing a business through social media.&nbsp\; She understands our customer&rsquo\;s world.&nbsp\; The best part &mdash\; this can be done&nbsp\; without spending all day on social media\, feeling stuck\, pulling your hair out because you don&rsquo\;t know what to post\, or even when or where to post.&nbsp\; She is passionate about helping small business owners show up online as their authentic selves and how they can attract their dream clients.<br />\n<a href="https://ftloyb.com/">https://ftloyb.com/</a></p>\n\n<p><strong>Vendors: </strong></p>\n\n<table class="x_x_MsoNormalTable" style="border-collapse:collapse\; width:146.0pt">\n	<tbody>\n		<tr>\n			<td style="height:14.25pt\; width:146.0pt">\n			<p><span style="color:black">3M</span></p>\n			</td>\n		</tr>\n		<tr>\n			<td style="height:14.25pt\; width:146.0pt">\n			<p><span style="color:black">Inpro</span></p>\n			</td>\n		</tr>\n		<tr>\n			<td style="height:14.25pt\; width:146.0pt">\n			<p><span style="color:black">Titan</span></p>\n\n			<p><span style="color:black">Mit-M</span></p>\n			</td>\n		</tr>\n		<tr>\n			<td style="height:14.25pt\; width:146.0pt">\n			<p><span style="color:black">Graco</span></p>\n			</td>\n		</tr>\n		<tr>\n			<td style="height:14.25pt\; width:146.0pt">\n			<p><span style="color:black">Festool</span></p>\n			</td>\n		</tr>\n		<tr>\n			<td style="height:14.25pt\; width:146.0pt">\n			<p><span style="color:black">Prosoco</span></p>\n			</td>\n		</tr>\n		<tr>\n			<td style="height:14.25pt\; width:146.0pt">\n			<p><span style="color:black">Marshalltown Tools</span></p>\n			</td>\n		</tr>\n		<tr>\n			<td style="height:14.25pt\; width:146.0pt">\n			<p><span style="color:black">BRZ Insurance</span></p>\n			</td>\n		</tr>\n		<tr>\n			<td style="height:15.0pt\; width:146.0pt">\n			<p><span style="color:black">Diamabrush</span></p>\n			</td>\n		</tr>\n		<tr>\n			<td style="height:15.0pt\; width:146.0pt">\n			<p><span style="color:black">Univar (Startex Solvents)</span></p>\n			</td>\n		</tr>\n		<tr>\n			<td style="height:15.0pt\; width:146.0pt">\n			<p><span style="color:black">Paint Scout Estimating</span></p>\n			</td>\n		</tr>\n		<tr>\n			<td style="height:15.0pt\; width:146.0pt">\n			<p><span style="color:black">Mazzotta Equipment Rentals</span></p>\n			</td>\n		</tr>\n	</tbody>\n</table>\n<strong>Raffles</strong>\n\n<p>All customers that attend will have to opportunity to take part in door prizes and raffles.</p>\n
LOCATION:Location: Village Hall\, 2 Oak Street\, Framingham MA 01701
UID:e.2083.15928
SEQUENCE:3
DTSTAMP:20260421T055826Z
URL:https://business.cmschamber.org/events/details/sherwin-williams-2023-vendor-pro-show-15928
END:VEVENT

END:VCALENDAR
