BEGIN:VCALENDAR
VERSION:2.0
PRODID:-//ChamberMaster//Event Calendar 2.0//EN
METHOD:PUBLISH
X-PUBLISHED-TTL:P3D
REFRESH-INTERVAL:P3D
CALSCALE:GREGORIAN
BEGIN:VEVENT
DTSTART:20220616T213000Z
DTEND:20220616T233000Z
X-MICROSOFT-CDO-ALLDAYEVENT:FALSE
SUMMARY:Small Business Bootcamp
DESCRIPTION:Join The Center for Women & Enterprise and Western Governors University for this free\, two-hour bootcamp aimed at helping new business owners. Six 15-min workshops cover topics such as getting your business started\, hiring and retaining talent\, and promoting your business with publicity and social media. A limited number of free headshots will also be available during the session.
X-ALT-DESC;FMTTYPE=text/html:<span style="color:rgb(0\, 0\, 0)\; font-family:lato\,arial\,helvetica\,sans-serif\; font-size:16px">Join The Center for Women &amp\; Enterprise and Western Governors University for this free\, two-hour bootcamp aimed at helping new business owners. Six 15-min workshops cover topics such as getting your business started\, hiring and retaining talent\, and promoting your business with publicity and social media. A limited number of free headshots will also be available during the session.</span>\n<div>&nbsp\;</div>\n
LOCATION:WorcLab 4 Portland St. Fl. 4 \, Worcester MA 01608
UID:e.2083.13949
SEQUENCE:3
DTSTAMP:20260421T202122Z
URL:https://business.cmschamber.org/events/details/small-business-bootcamp-13949
END:VEVENT

END:VCALENDAR
