BEGIN:VCALENDAR
VERSION:2.0
PRODID:-//ChamberMaster//Event Calendar 2.0//EN
METHOD:PUBLISH
X-PUBLISHED-TTL:P3D
REFRESH-INTERVAL:P3D
CALSCALE:GREGORIAN
BEGIN:VEVENT
DTSTART:20221215T170000Z
DTEND:20221215T210000Z
X-MICROSOFT-CDO-ALLDAYEVENT:FALSE
SUMMARY:Small Business Tech Day
DESCRIPTION:Small Business Tech Day on December 15th is a one-of-a-kind event\, designed for small-to-medium sized businesses to learn about the newest technologies and practices for the highest levels of network security and data protection. This free online event is hosted by one of our very own chamber members\, Konrad Martin at Tech Advisors. Join these leaders in IT\,  Network Security\, and Data Management as they discuss the newest trends and updates for optimal protection and safety compliance moving into 2023.\n\n \n\nShark Tank's\, Kevin O'Leary - "How Technology Will Shape The Future Of ALL Small Businesses"\n\nFBI Agent\, Eric O'Neill - "Need-To-Know Tactics To Protect Your Company From Cyber Criminals" \n\nTech Advisors\, Konrad Martin - "5-Step System To Make Sure Your Business Technology Runs Like A Ferrari Instead Of A Fiat" \n\nEntrepreneur Extraordinaire\, Mike Michalowicz  - "Forget The Economy: Your Business Can Thrive No Matter What"\n\n\n\nYou are invited to join these leading business experts as they share winning business strategies to help your company succeed in 2023 and beyond! \nINFORMATIVE   IMPACTFUL   INSPIRATIONAL\n \n\nClick the link to find more details and to register for Free! https://smallbusinesstechday.com/newengland/
X-ALT-DESC;FMTTYPE=text/html:<strong>Small Business Tech Day</strong> on December 15<sup>th</sup> is a one-of-a-kind event\, designed for small-to-medium sized businesses to learn about the newest technologies and practices for the highest levels of network security and data protection. This <strong><span style="color:#C00000">free</span></strong>&nbsp\;online event is hosted by one of our very own chamber members\, Konrad Martin at Tech Advisors. Join these leaders in IT\,&nbsp\; Network Security\, and Data Management as they discuss the newest trends and updates for optimal protection and safety compliance moving into 2023.<br />\n&nbsp\;<br />\n<strong><span style="color:#333333"><span style="font-size:12.0pt">Shark Tank&rsquo\;s\, </span></span></strong><strong><span style="color:#C00000"><span style="font-size:12.0pt">Kevin O&rsquo\;Leary</span></span></strong> <span style="color:#333333"><span style="font-family:montserrat">- &ldquo\;How Technology Will Shape The Future Of ALL Small Businesses&rdquo\;</span></span><br />\n<strong><span style="color:#333333"><span style="font-size:12.0pt">FBI Agent\, </span></span></strong><strong><span style="color:#C00000"><span style="font-size:12.0pt">Eric O&rsquo\;Neill</span></span></strong> <span style="color:#333333"><span style="font-family:montserrat"><span style="font-size:9.0pt">- </span></span></span><span style="color:#333333"><span style="font-family:montserrat">&ldquo\;Need-To-Know Tactics To Protect Your Company From Cyber Criminals&rdquo\; </span></span><br />\n<strong><span style="color:#333333"><span style="font-size:12.0pt">Tech Advisors\, </span></span></strong><strong><span style="color:#C00000"><span style="font-size:12.0pt">Konrad Martin</span></span></strong> <span style="color:#333333"><span style="font-family:montserrat">- &quot\;5-Step System To Make Sure Your Business Technology Runs Like A Ferrari Instead Of A Fiat&quot\; </span></span><br />\n<strong><span style="color:#333333"><span style="font-size:12.0pt">Entrepreneur Extraordinaire\, </span></span></strong><strong><span style="color:#C00000"><span style="font-size:12.0pt">Mike Michalowicz</span></span></strong>&nbsp\; <span style="color:#333333"><span style="font-family:montserrat">- &ldquo\;Forget The Economy: Your Business Can Thrive No Matter What&rdquo\;</span></span><br />\n<br />\nYou are invited to join these leading business experts as they share winning business strategies to help your company succeed in 2023 and beyond!&nbsp\;\n<div style="text-align: center\;"><span style="color:#B22222"><strong>INFORMATIVE &ndash\; IMPACTFUL &ndash\; INSPIRATIONAL</strong></span></div>\n&nbsp\;<br />\nClick the link to find more details and to register for Free! <a href="https://smallbusinesstechday.com/newengland/">https://smallbusinesstechday.com/newengland/</a><br />\n&nbsp\;
LOCATION:Online
UID:e.2083.14856
SEQUENCE:3
DTSTAMP:20260421T125029Z
URL:https://business.cmschamber.org/events/details/small-business-tech-day-14856
END:VEVENT

END:VCALENDAR
