BEGIN:VCALENDAR
VERSION:2.0
PRODID:-//ChamberMaster//Event Calendar 2.0//EN
METHOD:PUBLISH
X-PUBLISHED-TTL:P3D
REFRESH-INTERVAL:P3D
CALSCALE:GREGORIAN
BEGIN:VEVENT
DTSTART:20230105T170000Z
DTEND:20230105T204500Z
X-MICROSOFT-CDO-ALLDAYEVENT:FALSE
SUMMARY:Small Business Tech Day - Replay!
DESCRIPTION:Tech Advisors is rerunning their Small Business Tech Day for those who couldn't make the premier. Featuring Shark Tank's Kevin O'Leary and FBI Agent Eric O'Neill\, join these leaders as they discuss the best technologies and practices for protecting your business.\n\n\n\nClick here to register for free!
X-ALT-DESC;FMTTYPE=text/html:Tech Advisors is rerunning their Small Business Tech Day for those who couldn&rsquo\;t make the premier. Featuring Shark Tank&rsquo\;s Kevin O&rsquo\;Leary and FBI Agent Eric O&rsquo\;Neill\, join these leaders as they discuss the best technologies and practices for protecting your business.<br />\n<br />\n<a href="https://smallbusinesstechday.com/newengland/">Click here to register for free!</a>
LOCATION:Virtual
UID:e.2083.14971
SEQUENCE:3
DTSTAMP:20260421T092923Z
URL:https://business.cmschamber.org/events/details/small-business-tech-day-replay-14971
END:VEVENT

END:VCALENDAR
