BEGIN:VCALENDAR
VERSION:2.0
PRODID:-//ChamberMaster//Event Calendar 2.0//EN
METHOD:PUBLISH
X-PUBLISHED-TTL:P3D
REFRESH-INTERVAL:P3D
CALSCALE:GREGORIAN
BEGIN:VEVENT
DTSTART:20220722T230000Z
DTEND:20220723T010000Z
X-MICROSOFT-CDO-ALLDAYEVENT:FALSE
SUMMARY:Smashit Yoga
DESCRIPTION:Namaste Bitch3$ - It's Ladies Night Every Friday Night at Smashit2. \nJoin us for the same great yoga workout but with loud music\, a little swearing and breaking SH!T just for fun. \n\nWe are offering a trial class on July 22 from 7 - 9 pm. Cost: $10 per person.\n\nYou will have a one hour fun yoga session followed by 25 minutes with friends in our smash room breaking your own bucket of bottles. Individuals welcome. You'll meet a lot of like minded individuals at our classes.
X-ALT-DESC;FMTTYPE=text/html:<span style="font-family:comic sans ms"><span style="background-color:rgb(255\, 255\, 255)\; color:rgb(5\, 5\, 5)\; font-size:15px">Namaste Bitch3$ - </span><strong><span style="color:#ff0099"><span style="background-color:rgb(255\, 255\, 255)\; font-size:15px">It&#39\;s Ladies Night Every Friday Night at Smashit2.&nbsp\;</span></span></strong></span>\n<div><span style="font-family:comic sans ms"><span style="background-color:rgb(255\, 255\, 255)\; color:rgb(5\, 5\, 5)\; font-size:15px">Join us for the same great yoga workout but with loud music\, a little swearing and breaking SH!T just for fun.&nbsp\;</span><br />\n<span style="background-color:rgb(255\, 255\, 255)\; color:rgb(5\, 5\, 5)\; font-size:15px">We are offering a trial class on July 22 from 7 - 9 pm. Cost: $10 per person.</span><br />\n<span style="background-color:rgb(255\, 255\, 255)\; color:rgb(5\, 5\, 5)\; font-size:15px">You will have a one hour fun yoga session followed by 25 minutes with friends in our smash room breaking your own bucket of bottles. Individuals welcome. You&#39\;ll meet a lot of like minded individuals at our classes.</span></span></div>\n
LOCATION:Smashit2 - 6B Boulder Parkway North Oxford\, MA Use Waze and type in 10 Boulder Parkway. It takes you right to our building.
UID:e.2083.13989
SEQUENCE:3
DTSTAMP:20260421T184936Z
URL:https://business.cmschamber.org/events/details/smashit-yoga-13989
END:VEVENT

END:VCALENDAR
