BEGIN:VCALENDAR
VERSION:2.0
PRODID:-//ChamberMaster//Event Calendar 2.0//EN
METHOD:PUBLISH
X-PUBLISHED-TTL:P3D
REFRESH-INTERVAL:P3D
CALSCALE:GREGORIAN
BEGIN:VEVENT
DTSTART:20230313T213000Z
DTEND:20230313T233000Z
X-MICROSOFT-CDO-ALLDAYEVENT:FALSE
SUMMARY:Social Media 101
DESCRIPTION:Anyone can post to social media\, but when you do so as a business\, there's money and your reputation on the line. If you're new to social media or feel lost when it comes to marketing your business\, then finding the best platform(s) for you\, using the appropriate brand voice and imagery\, managing active accounts consistently\, and implementing advertising approaches designed to reach even more customers can all feel overwhelming to navigate.\n\nJulia Becker Collins\, COO of the locally-based full-service marketing agency Vision Advertising\, has years of experience helping businesses identify their specific target audiences and crafting unique social media marketing plans that successfully reach those ideal clients\, thereby increasing the company's online presence and driving sales. Now\, Julia's sharing her expertise in a condensed and digestible social media marketing crash course to help your business achieve success online.\n\nQuestions Julia will address in this interactive workshop include:\n\n\n	Why do I need social media marketing?\n	How do I stand out from my competition?\n	How can I promote my products and services on social media?\n	What platforms (Facebook\, Instagram\, LinkedIn\, Twitter\, etc.) should I focus on?\n	How do I gain attention\, likes\, comments\, and followers?\n	What content should I share? What are the common pitfalls and blunders?
X-ALT-DESC;FMTTYPE=text/html:<p>Anyone can post to social media\, but when you do so as a business\, there&rsquo\;s money&mdash\;and your reputation&mdash\;on the line. If you&rsquo\;re new to social media or feel lost when it comes to marketing your business\, then finding the best platform(s) for you\, using the appropriate brand voice and imagery\, managing active accounts consistently\, and implementing advertising approaches designed to reach even more customers can all feel overwhelming to navigate.</p>\n\n<p>Julia Becker Collins\, COO of the locally-based full-service marketing agency Vision Advertising\, has years of experience helping businesses identify their specific target audiences and crafting unique social media marketing plans that successfully reach those ideal clients\, thereby increasing the company&rsquo\;s online presence and driving sales. Now\, Julia&rsquo\;s sharing her expertise in a condensed and digestible social media marketing crash course to help your business achieve success online.</p>\n\n<p>Questions Julia will address in this interactive workshop include:</p>\n\n<ul>\n	<li>Why do I need social media marketing?</li>\n	<li>How do I stand out from my competition?</li>\n	<li>How can I promote my products and services on social media?</li>\n	<li>What platforms (Facebook\, Instagram\, LinkedIn\, Twitter\, etc.) should I focus on?</li>\n	<li>How do I gain attention\, likes\, comments\, and followers?</li>\n	<li>What content should I share? What are the common pitfalls and blunders?</li>\n</ul>\n
LOCATION:WorcLab 44 Portland St\, Worcester MA 01608
UID:e.2083.15444
SEQUENCE:3
DTSTAMP:20260421T055603Z
URL:https://business.cmschamber.org/events/details/social-media-101-15444
END:VEVENT

END:VCALENDAR
