BEGIN:VCALENDAR
VERSION:2.0
PRODID:-//ChamberMaster//Event Calendar 2.0//EN
METHOD:PUBLISH
X-PUBLISHED-TTL:P3D
REFRESH-INTERVAL:P3D
CALSCALE:GREGORIAN
BEGIN:VEVENT
DTSTART:20240227T223000Z
DTEND:20240228T000000Z
X-MICROSOFT-CDO-ALLDAYEVENT:FALSE
SUMMARY:Social Media Made Simple
DESCRIPTION:Are you looking to use social media for your business?   Join us for this workshop and learn:\n\n\n	The basics for using common social media channels\n	Ways to decrease time spent on social media with automation\n	How to integrate different social media into your marketing strategy to bring in additional revenue\n	How you can use social media to target your audience with effective marketing messages
X-ALT-DESC;FMTTYPE=text/html:<p><span style="font-size:12pt">Are you looking to use social media for your business?&nbsp\;&nbsp\; Join us for this workshop and learn:</span></p>\n\n<ul>\n	<li><span style="font-size:12pt">The basics for using common social media channels</span></li>\n	<li><span style="font-size:12pt">Ways to decrease time spent on social media with automation</span></li>\n	<li><span style="font-size:12pt">How to integrate different social media into your marketing strategy to bring in additional revenue</span></li>\n	<li><span style="font-size:12pt">How you can use social media to target your audience with effective marketing messages</span></li>\n</ul>\n
LOCATION:Virtual
UID:e.2083.17247
SEQUENCE:3
DTSTAMP:20260420T102835Z
URL:https://business.cmschamber.org/events/details/social-media-made-simple-02-27-2024-17247
END:VEVENT

END:VCALENDAR
