BEGIN:VCALENDAR
VERSION:2.0
PRODID:-//ChamberMaster//Event Calendar 2.0//EN
METHOD:PUBLISH
X-PUBLISHED-TTL:P3D
REFRESH-INTERVAL:P3D
CALSCALE:GREGORIAN
BEGIN:VEVENT
DTSTART:20230710T190000Z
DTEND:20230710T210000Z
X-MICROSOFT-CDO-ALLDAYEVENT:FALSE
SUMMARY:Social Media Made Simple
DESCRIPTION:Are you looking to use social media for your business?   Join us for this workshop and learn:\n\n\n	The basics for using common social media channels\n	Ways to decrease time spent on social media with automation\n	How to integrate different social media into your marketing strategy to bring in additional revenue\n	How you can use social media to target your audience with effective marketing messages\n\n\nAbout your instructor:  Taline Badrikian is the Founder and CEO of Laveh.  Laveh helps small companies and startups create killer marketing programs using innovative and industry best practices that are proven to work. Laveh helps companies grow by providing services in SEO\, content development\, lead nurturing\, email marketing\, social media management and more.
X-ALT-DESC;FMTTYPE=text/html:<p>Are you looking to use social media for your business?&nbsp\;&nbsp\; Join us for this workshop and learn:</p>\n\n<ul>\n	<li>The basics for using common social media channels</li>\n	<li>Ways to decrease time spent on social media with automation</li>\n	<li>How to integrate different social media into your marketing strategy to bring in additional revenue</li>\n	<li>How you can use social media to target your audience with effective marketing messages</li>\n</ul>\n\n<p><strong>About your instructor:</strong>&nbsp\; Taline Badrikian is the Founder and CEO of Laveh.&nbsp\; Laveh helps small companies and startups create killer marketing programs using innovative and industry best practices that are proven to work. Laveh helps companies grow by providing services in SEO\, content development\, lead nurturing\, email marketing\, social media management and more.</p>\n
LOCATION:Zoom
UID:e.2083.15986
SEQUENCE:3
DTSTAMP:20260420T224908Z
URL:https://business.cmschamber.org/events/details/social-media-made-simple-07-10-2023-15986
END:VEVENT

END:VCALENDAR
