BEGIN:VCALENDAR
VERSION:2.0
PRODID:-//ChamberMaster//Event Calendar 2.0//EN
METHOD:PUBLISH
X-PUBLISHED-TTL:P3D
REFRESH-INTERVAL:P3D
CALSCALE:GREGORIAN
BEGIN:VEVENT
DTSTART:20220322T213000Z
DTEND:20220322T223000Z
X-MICROSOFT-CDO-ALLDAYEVENT:FALSE
SUMMARY:Social Security Workshop - The Keys to Unlocking Social Security and Making Your Benefits Work for You
DESCRIPTION:Kurt Czarnowski\, social security expert\, will provide a wealth of information to help you plan your retirement and maximize your Social Security benefits. Co-hosted by Eric Brose\, Infinex Financial Advisor. \n\n\n\nAttendance Raffle: $100 American Express Gift Card\n\nDrawing will be held at end of presentation. Must be present to win. Prize offered by Fidelity Bank. No account opening\, purchase\, or investment is necessary. \n\n \nYou will learn: \n\n\n	When you can start to collect\n	How your benefit is calculated\n	The impact of working in retirement\n	Several strategies to maximize Social\n	Security benefits\n\nRegister here: https://www.fidelitybankonline.com/socsec/
X-ALT-DESC;FMTTYPE=text/html:<br />\nKurt Czarnowski\, social security expert\, will provide a wealth of information to help you plan your retirement and maximize your Social Security benefits. Co-hosted by Eric Brose\, Infinex Financial Advisor.&nbsp\;<br />\n<br />\n<strong>Attendance Raffle: $100 American Express Gift Card</strong><br />\nDrawing will be held at end of presentation. Must be present to win. Prize offered by Fidelity Bank. No account opening\, purchase\, or investment is necessary.&nbsp\;<br />\n&nbsp\;\n<p><strong>You will learn:&nbsp\;</strong></p>\n\n<ul>\n	<li>When you can start to collect</li>\n	<li>How your benefit is calculated</li>\n	<li>The impact of working in retirement</li>\n	<li>Several strategies to maximize Social</li>\n	<li>Security benefits</li>\n</ul>\n<strong>Register here:</strong>&nbsp\;https://www.fidelitybankonline.com/socsec/
LOCATION:Cisco Webex
UID:e.2083.13842
SEQUENCE:3
DTSTAMP:20260422T022552Z
URL:https://business.cmschamber.org/events/details/social-security-workshop-the-keys-to-unlocking-social-security-and-making-your-benefits-work-for-you-13842
END:VEVENT

END:VCALENDAR
