BEGIN:VCALENDAR
VERSION:2.0
PRODID:-//ChamberMaster//Event Calendar 2.0//EN
METHOD:PUBLISH
X-PUBLISHED-TTL:P3D
REFRESH-INTERVAL:P3D
CALSCALE:GREGORIAN
BEGIN:VEVENT
DTSTART:20220419T190000Z
DTEND:20220419T200000Z
X-MICROSOFT-CDO-ALLDAYEVENT:FALSE
SUMMARY:Spring Clean Your Files (3T@3 Webcast Series)
DESCRIPTION:Have you counted the number of places where you store your files? How often do you need to search more than one service or location to find what you need? You are not alone! In an era of virtually unlimited and nearly free storage\, we fail to keep things organized. The clutter makes it more difficult to find what we need\, collaborate with colleagues\, and save what we must.\n\nUsing the file services you already have will increase productivity\, protect your information\, and save you money.\n\nIn our April 3T@3 Webcast\, Cumulus Global CEO Allen Falcon looks at how small and midsize organizations can most effectively use cloud file services to improve productivity\, enhance security and privacy\, and lower costs. With an understanding of personal file services   OneDrive and My Drive   and domain file services   Shared Drives and SharePoint\, businesses can build a file service that organizes and protects files in ways that make them easier to find\, share\, and use. With an eye on best practices\, Allen will compare types of file services\, define the role and use of desktop file service clients\, and discuss ways to eliminate costly\, redundant services. He will also share some Quick Tips that your staff can use to make it easier to work as a team.\n\nPlease join us\, and bring your questions\, for this informative session.  If you register and cannot attend\, we will send you link to view the recording on-demand.
X-ALT-DESC;FMTTYPE=text/html:<p><span style="background-color:transparent\; color:rgb(0\, 0\, 0)\; font-family:arial\; font-size:11pt">Have you counted the number of places where you store your files? How often do you need to search more than one service or location to find what you need? You are not alone! In an era of virtually unlimited and nearly free storage\, we fail to keep things organized. The clutter makes it more difficult to find what we need\, collaborate with colleagues\, and save what we must.</span></p>\n\n<p><strong>Using the file services you already have will increase productivity\, protect your information\, and save you money.</strong></p>\n\n<p><span style="background-color:transparent\; color:rgb(0\, 0\, 0)\; font-family:arial\; font-size:11pt">In our April </span><em>3T@3 Webcast</em><span style="background-color:transparent\; color:rgb(0\, 0\, 0)\; font-family:arial\; font-size:11pt">\, Cumulus Global CEO Allen Falcon looks at how small and midsize organizations can most effectively use cloud file services to improve productivity\, enhance security and privacy\, and lower costs. With an understanding of personal file services &ndash\; OneDrive and My Drive &ndash\; and domain file services &ndash\; Shared Drives and SharePoint\, businesses can build a file service that organizes and protects files in ways that make them easier to find\, share\, and use. With an eye on best practices\, Allen will compare types of file services\, define the role and use of desktop file service clients\, and discuss ways to eliminate costly\, redundant services. He will also share some </span><em>Quick Tips</em><span style="background-color:transparent\; color:rgb(0\, 0\, 0)\; font-family:arial\; font-size:11pt"> that your staff can use to make it easier to work as a team.</span></p>\n\n<p><span style="background-color:transparent\; color:rgb(0\, 0\, 0)\; font-family:arial\; font-size:11pt">Please join us\, and bring your questions\, for this informative session.&nbsp\; </span><em style="background-color:transparent\; color:rgb(0\, 0\, 0)\; font-family:arial\; font-size:11pt">If you register and cannot attend\, we will send you link to view the recording on-demand.</em></p>\n
LOCATION:Live Webcast: Click here to Register Now.
UID:e.2083.13876
SEQUENCE:3
DTSTAMP:20260421T231556Z
URL:https://business.cmschamber.org/events/details/spring-clean-your-files-3t-3-webcast-series-13876
END:VEVENT

END:VCALENDAR
