BEGIN:VCALENDAR
VERSION:2.0
PRODID:-//ChamberMaster//Event Calendar 2.0//EN
METHOD:PUBLISH
X-PUBLISHED-TTL:P3D
REFRESH-INTERVAL:P3D
CALSCALE:GREGORIAN
BEGIN:VEVENT
DTSTART:20240316T170000Z
DTEND:20240316T200000Z
X-MICROSOFT-CDO-ALLDAYEVENT:FALSE
SUMMARY:SSHIP MEAT RAFFLE FUNDRAISER
DESCRIPTION:JOIN US FOR THIS FUN SSIHP FUNDRAISER EVENT!!!\n\nMeat Raffle\, Booze Table\, 50/50 Cash Raffle and other Raffle Prizes\n\nTable Sponsorships are Available\n\nDonations are appreciated.\n\nDoors Open at 12 noon-Raffles start at 1 pm\n\nCASH only Bar\n\nFood Truck will be set up outside at the venue\n\nAll proceeds to benefit Shrewsbury Street Italian Heritage Parade\n\nContact us for more information: 774.253.7015\n\nor ShrewsburyStItalianParade@gmail.com\n\nMille Grazie for sharing!!!\n\n#SSIHPfundraiser #shrewsburystreetitalianheritageparade #meatraffle #4thand1 #raffle #nonprofit #fundraiser #italian #italianparade #ssihpevent #worcesterma
X-ALT-DESC;FMTTYPE=text/html:<strong><span style="background-color:rgb(255\, 255\, 255)\; color:rgb(5\, 5\, 5)\; font-family:segoe ui historic\,segoe ui\,helvetica\,arial\,sans-serif\; font-size:15px">JOIN US FOR THIS FUN SSIHP FUNDRAISER EVENT!!!</span></strong><br />\n<span style="background-color:rgb(255\, 255\, 255)\; color:rgb(5\, 5\, 5)\; font-family:segoe ui historic\,segoe ui\,helvetica\,arial\,sans-serif\; font-size:15px">Meat Raffle\, Booze Table\, 50/50 Cash Raffle and other Raffle Prizes</span><br />\n<span style="background-color:rgb(255\, 255\, 255)\; color:rgb(5\, 5\, 5)\; font-family:segoe ui historic\,segoe ui\,helvetica\,arial\,sans-serif\; font-size:15px">Table Sponsorships are Available</span><br />\n<span style="background-color:rgb(255\, 255\, 255)\; color:rgb(5\, 5\, 5)\; font-family:segoe ui historic\,segoe ui\,helvetica\,arial\,sans-serif\; font-size:15px">Donations are appreciated.</span><br />\n<span style="background-color:rgb(255\, 255\, 255)\; color:rgb(5\, 5\, 5)\; font-family:segoe ui historic\,segoe ui\,helvetica\,arial\,sans-serif\; font-size:15px">Doors Open at 12 noon-Raffles start at 1 pm</span><br />\n<span style="background-color:rgb(255\, 255\, 255)\; color:rgb(5\, 5\, 5)\; font-family:segoe ui historic\,segoe ui\,helvetica\,arial\,sans-serif\; font-size:15px">CASH only Bar<br />\nFood Truck will be set up outside at the venue</span><br />\n<span style="background-color:rgb(255\, 255\, 255)\; color:rgb(5\, 5\, 5)\; font-family:segoe ui historic\,segoe ui\,helvetica\,arial\,sans-serif\; font-size:15px">All proceeds to benefit Shrewsbury Street Italian Heritage Parade</span><br />\n<span style="background-color:rgb(255\, 255\, 255)\; color:rgb(5\, 5\, 5)\; font-family:segoe ui historic\,segoe ui\,helvetica\,arial\,sans-serif\; font-size:15px">Contact us for more information: 774.253.7015</span><br />\n<span style="background-color:rgb(255\, 255\, 255)\; color:rgb(5\, 5\, 5)\; font-family:segoe ui historic\,segoe ui\,helvetica\,arial\,sans-serif\; font-size:15px">or ShrewsburyStItalianParade@gmail.com</span><br />\n<span style="background-color:rgb(255\, 255\, 255)\; color:rgb(5\, 5\, 5)\; font-family:segoe ui historic\,segoe ui\,helvetica\,arial\,sans-serif\; font-size:15px">Mille Grazie for sharing!!!</span><br />\n<a class="x1i10hfl xjbqb8w x1ejq31n xd10rxx x1sy0etr x17r0tee x972fbf xcfux6l x1qhh985 xm0m39n x9f619 x1ypdohk xt0psk2 xe8uvvx xdj266r x11i5rnm xat24cr x1mh8g0r xexx8yu x4uap5 x18d9i69 xkhd6sd x16tdsg8 x1hl2dhg xggy1nq x1a2a7pz xt0b8zv xzsf02u x1s688f" href="https://www.facebook.com/hashtag/ssihpfundraiser?__eep__=6&amp\;__cft__[0]=AZVbZv3Bz39JUeilCSZw_ZZtHgiZyM9X1Dqh-A0f4eqzOokaHP7YDFrBd7-FAs9g9haOU7XIDXU5RxyMEGCQcbHFIKuui1DotxNJ7toenuPpUpWyBu4Ua4nfVNeLOtQBQU8&amp\;__tn__=q" style="cursor: pointer\; text-decoration-line: none\; outline: none\; list-style: none\; margin: 0px\; border-style: none\; font-weight: 600\; padding: 0px\; border-width: 0px\; box-sizing: border-box\; background-color: rgb(255\, 255\, 255)\; display: inline\; -webkit-tap-highlight-color: transparent\; touch-action: manipulation\; font-family: &quot\;Segoe UI Historic&quot\;\, &quot\;Segoe UI&quot\;\, Helvetica\, Arial\, sans-serif\; font-size: 15px\;" tabindex="0">#SSIHPfundraiser</a><span style="background-color:rgb(255\, 255\, 255)\; color:rgb(5\, 5\, 5)\; font-family:segoe ui historic\,segoe ui\,helvetica\,arial\,sans-serif\; font-size:15px">&nbsp\;</span><a class="x1i10hfl xjbqb8w x1ejq31n xd10rxx x1sy0etr x17r0tee x972fbf xcfux6l x1qhh985 xm0m39n x9f619 x1ypdohk xt0psk2 xe8uvvx xdj266r x11i5rnm xat24cr x1mh8g0r xexx8yu x4uap5 x18d9i69 xkhd6sd x16tdsg8 x1hl2dhg xggy1nq x1a2a7pz xt0b8zv xzsf02u x1s688f" href="https://www.facebook.com/hashtag/shrewsburystreetitalianheritageparade?__eep__=6&amp\;__cft__[0]=AZVbZv3Bz39JUeilCSZw_ZZtHgiZyM9X1Dqh-A0f4eqzOokaHP7YDFrBd7-FAs9g9haOU7XIDXU5RxyMEGCQcbHFIKuui1DotxNJ7toenuPpUpWyBu4Ua4nfVNeLOtQBQU8&amp\;__tn__=q" style="cursor: pointer\; text-decoration-line: none\; outline: none\; list-style: none\; margin: 0px\; border-style: none\; font-weight: 600\; padding: 0px\; border-width: 0px\; box-sizing: border-box\; background-color: rgb(255\, 255\, 255)\; display: inline\; -webkit-tap-highlight-color: transparent\; touch-action: manipulation\; font-family: &quot\;Segoe UI Historic&quot\;\, &quot\;Segoe UI&quot\;\, Helvetica\, Arial\, sans-serif\; font-size: 15px\;" tabindex="0">#shrewsburystreetitalianheritageparade</a><span style="background-color:rgb(255\, 255\, 255)\; color:rgb(5\, 5\, 5)\; font-family:segoe ui historic\,segoe ui\,helvetica\,arial\,sans-serif\; font-size:15px">&nbsp\;</span><a class="x1i10hfl xjbqb8w x1ejq31n xd10rxx x1sy0etr x17r0tee x972fbf xcfux6l x1qhh985 xm0m39n x9f619 x1ypdohk xt0psk2 xe8uvvx xdj266r x11i5rnm xat24cr x1mh8g0r xexx8yu x4uap5 x18d9i69 xkhd6sd x16tdsg8 x1hl2dhg xggy1nq x1a2a7pz xt0b8zv xzsf02u x1s688f" href="https://www.facebook.com/hashtag/meatraffle?__eep__=6&amp\;__cft__[0]=AZVbZv3Bz39JUeilCSZw_ZZtHgiZyM9X1Dqh-A0f4eqzOokaHP7YDFrBd7-FAs9g9haOU7XIDXU5RxyMEGCQcbHFIKuui1DotxNJ7toenuPpUpWyBu4Ua4nfVNeLOtQBQU8&amp\;__tn__=q" style="cursor: pointer\; text-decoration-line: none\; outline: none\; list-style: none\; margin: 0px\; border-style: none\; font-weight: 600\; padding: 0px\; border-width: 0px\; box-sizing: border-box\; background-color: rgb(255\, 255\, 255)\; display: inline\; -webkit-tap-highlight-color: transparent\; touch-action: manipulation\; font-family: &quot\;Segoe UI Historic&quot\;\, &quot\;Segoe UI&quot\;\, Helvetica\, Arial\, sans-serif\; font-size: 15px\;" tabindex="0">#meatraffle</a><span style="background-color:rgb(255\, 255\, 255)\; color:rgb(5\, 5\, 5)\; font-family:segoe ui historic\,segoe ui\,helvetica\,arial\,sans-serif\; font-size:15px">&nbsp\;</span><a class="x1i10hfl xjbqb8w x1ejq31n xd10rxx x1sy0etr x17r0tee x972fbf xcfux6l x1qhh985 xm0m39n x9f619 x1ypdohk xt0psk2 xe8uvvx xdj266r x11i5rnm xat24cr x1mh8g0r xexx8yu x4uap5 x18d9i69 xkhd6sd x16tdsg8 x1hl2dhg xggy1nq x1a2a7pz xt0b8zv xzsf02u x1s688f" href="https://www.facebook.com/hashtag/4thand1?__eep__=6&amp\;__cft__[0]=AZVbZv3Bz39JUeilCSZw_ZZtHgiZyM9X1Dqh-A0f4eqzOokaHP7YDFrBd7-FAs9g9haOU7XIDXU5RxyMEGCQcbHFIKuui1DotxNJ7toenuPpUpWyBu4Ua4nfVNeLOtQBQU8&amp\;__tn__=q" style="cursor: pointer\; text-decoration-line: none\; outline: none\; list-style: none\; margin: 0px\; border-style: none\; font-weight: 600\; padding: 0px\; border-width: 0px\; box-sizing: border-box\; background-color: rgb(255\, 255\, 255)\; display: inline\; -webkit-tap-highlight-color: transparent\; touch-action: manipulation\; font-family: &quot\;Segoe UI Historic&quot\;\, &quot\;Segoe UI&quot\;\, Helvetica\, Arial\, sans-serif\; font-size: 15px\;" tabindex="0">#4thand1</a><span style="background-color:rgb(255\, 255\, 255)\; color:rgb(5\, 5\, 5)\; font-family:segoe ui historic\,segoe ui\,helvetica\,arial\,sans-serif\; font-size:15px">&nbsp\;</span><a class="x1i10hfl xjbqb8w x1ejq31n xd10rxx x1sy0etr x17r0tee x972fbf xcfux6l x1qhh985 xm0m39n x9f619 x1ypdohk xt0psk2 xe8uvvx xdj266r x11i5rnm xat24cr x1mh8g0r xexx8yu x4uap5 x18d9i69 xkhd6sd x16tdsg8 x1hl2dhg xggy1nq x1a2a7pz xt0b8zv xzsf02u x1s688f" href="https://www.facebook.com/hashtag/raffle?__eep__=6&amp\;__cft__[0]=AZVbZv3Bz39JUeilCSZw_ZZtHgiZyM9X1Dqh-A0f4eqzOokaHP7YDFrBd7-FAs9g9haOU7XIDXU5RxyMEGCQcbHFIKuui1DotxNJ7toenuPpUpWyBu4Ua4nfVNeLOtQBQU8&amp\;__tn__=q" style="cursor: pointer\; text-decoration-line: none\; outline: none\; list-style: none\; margin: 0px\; border-style: none\; font-weight: 600\; padding: 0px\; border-width: 0px\; box-sizing: border-box\; background-color: rgb(255\, 255\, 255)\; display: inline\; -webkit-tap-highlight-color: transparent\; touch-action: manipulation\; font-family: &quot\;Segoe UI Historic&quot\;\, &quot\;Segoe UI&quot\;\, Helvetica\, Arial\, sans-serif\; font-size: 15px\;" tabindex="0">#raffle</a><span style="background-color:rgb(255\, 255\, 255)\; color:rgb(5\, 5\, 5)\; font-family:segoe ui historic\,segoe ui\,helvetica\,arial\,sans-serif\; font-size:15px">&nbsp\;</span><a class="x1i10hfl xjbqb8w x1ejq31n xd10rxx x1sy0etr x17r0tee x972fbf xcfux6l x1qhh985 xm0m39n x9f619 x1ypdohk xt0psk2 xe8uvvx xdj266r x11i5rnm xat24cr x1mh8g0r xexx8yu x4uap5 x18d9i69 xkhd6sd x16tdsg8 x1hl2dhg xggy1nq x1a2a7pz xt0b8zv xzsf02u x1s688f" href="https://www.facebook.com/hashtag/nonprofit?__eep__=6&amp\;__cft__[0]=AZVbZv3Bz39JUeilCSZw_ZZtHgiZyM9X1Dqh-A0f4eqzOokaHP7YDFrBd7-FAs9g9haOU7XIDXU5RxyMEGCQcbHFIKuui1DotxNJ7toenuPpUpWyBu4Ua4nfVNeLOtQBQU8&amp\;__tn__=q" style="cursor: pointer\; text-decoration-line: none\; outline: none\; list-style: none\; margin: 0px\; border-style: none\; font-weight: 600\; padding: 0px\; border-width: 0px\; box-sizing: border-box\; background-color: rgb(255\, 255\, 255)\; display: inline\; -webkit-tap-highlight-color: transparent\; touch-action: manipulation\; font-family: &quot\;Segoe UI Historic&quot\;\, &quot\;Segoe UI&quot\;\, Helvetica\, Arial\, sans-serif\; font-size: 15px\;" tabindex="0">#nonprofit</a><span style="background-color:rgb(255\, 255\, 255)\; color:rgb(5\, 5\, 5)\; font-family:segoe ui historic\,segoe ui\,helvetica\,arial\,sans-serif\; font-size:15px">&nbsp\;</span><a class="x1i10hfl xjbqb8w x1ejq31n xd10rxx x1sy0etr x17r0tee x972fbf xcfux6l x1qhh985 xm0m39n x9f619 x1ypdohk xt0psk2 xe8uvvx xdj266r x11i5rnm xat24cr x1mh8g0r xexx8yu x4uap5 x18d9i69 xkhd6sd x16tdsg8 x1hl2dhg xggy1nq x1a2a7pz xt0b8zv xzsf02u x1s688f" href="https://www.facebook.com/hashtag/fundraiser?__eep__=6&amp\;__cft__[0]=AZVbZv3Bz39JUeilCSZw_ZZtHgiZyM9X1Dqh-A0f4eqzOokaHP7YDFrBd7-FAs9g9haOU7XIDXU5RxyMEGCQcbHFIKuui1DotxNJ7toenuPpUpWyBu4Ua4nfVNeLOtQBQU8&amp\;__tn__=q" style="cursor: pointer\; text-decoration-line: none\; outline: none\; list-style: none\; margin: 0px\; border-style: none\; font-weight: 600\; padding: 0px\; border-width: 0px\; box-sizing: border-box\; background-color: rgb(255\, 255\, 255)\; display: inline\; -webkit-tap-highlight-color: transparent\; touch-action: manipulation\; font-family: &quot\;Segoe UI Historic&quot\;\, &quot\;Segoe UI&quot\;\, Helvetica\, Arial\, sans-serif\; font-size: 15px\;" tabindex="0">#fundraiser</a><span style="background-color:rgb(255\, 255\, 255)\; color:rgb(5\, 5\, 5)\; font-family:segoe ui historic\,segoe ui\,helvetica\,arial\,sans-serif\; font-size:15px">&nbsp\;</span><a class="x1i10hfl xjbqb8w x1ejq31n xd10rxx x1sy0etr x17r0tee x972fbf xcfux6l x1qhh985 xm0m39n x9f619 x1ypdohk xt0psk2 xe8uvvx xdj266r x11i5rnm xat24cr x1mh8g0r xexx8yu x4uap5 x18d9i69 xkhd6sd x16tdsg8 x1hl2dhg xggy1nq x1a2a7pz xt0b8zv xzsf02u x1s688f" href="https://www.facebook.com/hashtag/italian?__eep__=6&amp\;__cft__[0]=AZVbZv3Bz39JUeilCSZw_ZZtHgiZyM9X1Dqh-A0f4eqzOokaHP7YDFrBd7-FAs9g9haOU7XIDXU5RxyMEGCQcbHFIKuui1DotxNJ7toenuPpUpWyBu4Ua4nfVNeLOtQBQU8&amp\;__tn__=q" style="cursor: pointer\; text-decoration-line: none\; outline: none\; list-style: none\; margin: 0px\; border-style: none\; font-weight: 600\; padding: 0px\; border-width: 0px\; box-sizing: border-box\; background-color: rgb(255\, 255\, 255)\; display: inline\; -webkit-tap-highlight-color: transparent\; touch-action: manipulation\; font-family: &quot\;Segoe UI Historic&quot\;\, &quot\;Segoe UI&quot\;\, Helvetica\, Arial\, sans-serif\; font-size: 15px\;" tabindex="0">#italian</a><span style="background-color:rgb(255\, 255\, 255)\; color:rgb(5\, 5\, 5)\; font-family:segoe ui historic\,segoe ui\,helvetica\,arial\,sans-serif\; font-size:15px">&nbsp\;</span><a class="x1i10hfl xjbqb8w x1ejq31n xd10rxx x1sy0etr x17r0tee x972fbf xcfux6l x1qhh985 xm0m39n x9f619 x1ypdohk xt0psk2 xe8uvvx xdj266r x11i5rnm xat24cr x1mh8g0r xexx8yu x4uap5 x18d9i69 xkhd6sd x16tdsg8 x1hl2dhg xggy1nq x1a2a7pz xt0b8zv xzsf02u x1s688f" href="https://www.facebook.com/hashtag/italianparade?__eep__=6&amp\;__cft__[0]=AZVbZv3Bz39JUeilCSZw_ZZtHgiZyM9X1Dqh-A0f4eqzOokaHP7YDFrBd7-FAs9g9haOU7XIDXU5RxyMEGCQcbHFIKuui1DotxNJ7toenuPpUpWyBu4Ua4nfVNeLOtQBQU8&amp\;__tn__=q" style="cursor: pointer\; text-decoration-line: none\; outline: none\; list-style: none\; margin: 0px\; border-style: none\; font-weight: 600\; padding: 0px\; border-width: 0px\; box-sizing: border-box\; background-color: rgb(255\, 255\, 255)\; display: inline\; -webkit-tap-highlight-color: transparent\; touch-action: manipulation\; font-family: &quot\;Segoe UI Historic&quot\;\, &quot\;Segoe UI&quot\;\, Helvetica\, Arial\, sans-serif\; font-size: 15px\;" tabindex="0">#italianparade</a><span style="background-color:rgb(255\, 255\, 255)\; color:rgb(5\, 5\, 5)\; font-family:segoe ui historic\,segoe ui\,helvetica\,arial\,sans-serif\; font-size:15px">&nbsp\;</span><a class="x1i10hfl xjbqb8w x1ejq31n xd10rxx x1sy0etr x17r0tee x972fbf xcfux6l x1qhh985 xm0m39n x9f619 x1ypdohk xt0psk2 xe8uvvx xdj266r x11i5rnm xat24cr x1mh8g0r xexx8yu x4uap5 x18d9i69 xkhd6sd x16tdsg8 x1hl2dhg xggy1nq x1a2a7pz xt0b8zv xzsf02u x1s688f" href="https://www.facebook.com/hashtag/ssihpevent?__eep__=6&amp\;__cft__[0]=AZVbZv3Bz39JUeilCSZw_ZZtHgiZyM9X1Dqh-A0f4eqzOokaHP7YDFrBd7-FAs9g9haOU7XIDXU5RxyMEGCQcbHFIKuui1DotxNJ7toenuPpUpWyBu4Ua4nfVNeLOtQBQU8&amp\;__tn__=q" style="cursor: pointer\; text-decoration-line: none\; outline: none\; list-style: none\; margin: 0px\; border-style: none\; font-weight: 600\; padding: 0px\; border-width: 0px\; box-sizing: border-box\; background-color: rgb(255\, 255\, 255)\; display: inline\; -webkit-tap-highlight-color: transparent\; touch-action: manipulation\; font-family: &quot\;Segoe UI Historic&quot\;\, &quot\;Segoe UI&quot\;\, Helvetica\, Arial\, sans-serif\; font-size: 15px\;" tabindex="0">#ssihpevent</a><span style="background-color:rgb(255\, 255\, 255)\; color:rgb(5\, 5\, 5)\; font-family:segoe ui historic\,segoe ui\,helvetica\,arial\,sans-serif\; font-size:15px">&nbsp\;</span><a class="x1i10hfl xjbqb8w x1ejq31n xd10rxx x1sy0etr x17r0tee x972fbf xcfux6l x1qhh985 xm0m39n x9f619 x1ypdohk xt0psk2 xe8uvvx xdj266r x11i5rnm xat24cr x1mh8g0r xexx8yu x4uap5 x18d9i69 xkhd6sd x16tdsg8 x1hl2dhg xggy1nq x1a2a7pz xt0b8zv xzsf02u x1s688f" href="https://www.facebook.com/hashtag/worcesterma?__eep__=6&amp\;__cft__[0]=AZVbZv3Bz39JUeilCSZw_ZZtHgiZyM9X1Dqh-A0f4eqzOokaHP7YDFrBd7-FAs9g9haOU7XIDXU5RxyMEGCQcbHFIKuui1DotxNJ7toenuPpUpWyBu4Ua4nfVNeLOtQBQU8&amp\;__tn__=q" style="cursor: pointer\; text-decoration-line: none\; outline: none\; list-style: none\; margin: 0px\; border-style: none\; font-weight: 600\; padding: 0px\; border-width: 0px\; box-sizing: border-box\; background-color: rgb(255\, 255\, 255)\; display: inline\; -webkit-tap-highlight-color: transparent\; touch-action: manipulation\; font-family: &quot\;Segoe UI Historic&quot\;\, &quot\;Segoe UI&quot\;\, Helvetica\, Arial\, sans-serif\; font-size: 15px\;" tabindex="0">#worcesterma</a>
LOCATION:4th & 1 Sports Club 7 Muskeego Street Worcester\, MA
UID:e.2083.17350
SEQUENCE:3
DTSTAMP:20260420T085414Z
URL:https://business.cmschamber.org/events/details/sship-meat-raffle-fundraiser-03-16-2024-17350
END:VEVENT

END:VCALENDAR
