BEGIN:VCALENDAR
VERSION:2.0
PRODID:-//ChamberMaster//Event Calendar 2.0//EN
METHOD:PUBLISH
X-PUBLISHED-TTL:P3D
REFRESH-INTERVAL:P3D
CALSCALE:GREGORIAN
BEGIN:VEVENT
DTSTART:20231118T170000Z
DTEND:20231118T220000Z
X-MICROSOFT-CDO-ALLDAYEVENT:FALSE
SUMMARY:SSHIP MEAT RAFFLE FUNDRAISER
DESCRIPTION:JOIN US FOR THIS FUN EVENT!!!\n\nMeat Raffle\, Booze Table\, Raffle Prizes and more.....\n\nTable Sponsorships are Available\n\nDoors Open at 12 noon-Raffles start at 1 pm\n\nCASH only Bar\n\nProceeds to benefit Shrewsbury Street Italian Heritage Parade\n\n501(c)3\n\nContact us to learn more....\n\nshrewsburystitalianparade@gmail.com
X-ALT-DESC;FMTTYPE=text/html:<span style="background-color:rgb(255\, 255\, 255)\; color:rgb(5\, 5\, 5)\; font-family:segoe ui historic\,segoe ui\,helvetica\,arial\,sans-serif\; font-size:15px">JOIN US FOR THIS FUN EVENT!!!</span><br />\n<span style="background-color:rgb(255\, 255\, 255)\; color:rgb(5\, 5\, 5)\; font-family:segoe ui historic\,segoe ui\,helvetica\,arial\,sans-serif\; font-size:15px">Meat Raffle\, Booze Table\, Raffle Prizes and more.....</span><br />\n<span style="background-color:rgb(255\, 255\, 255)\; color:rgb(5\, 5\, 5)\; font-family:segoe ui historic\,segoe ui\,helvetica\,arial\,sans-serif\; font-size:15px">Table Sponsorships are Available</span><br />\n<span style="background-color:rgb(255\, 255\, 255)\; color:rgb(5\, 5\, 5)\; font-family:segoe ui historic\,segoe ui\,helvetica\,arial\,sans-serif\; font-size:15px">Doors Open at 12 noon-Raffles start at 1 pm</span><br />\n<span style="background-color:rgb(255\, 255\, 255)\; color:rgb(5\, 5\, 5)\; font-family:segoe ui historic\,segoe ui\,helvetica\,arial\,sans-serif\; font-size:15px">CASH only Bar<br />\nProceeds to benefit Shrewsbury Street Italian Heritage Parade</span><br />\n<span style="background-color:rgb(255\, 255\, 255)\; color:rgb(5\, 5\, 5)\; font-family:segoe ui historic\,segoe ui\,helvetica\,arial\,sans-serif\; font-size:15px">501(c)3<br />\nContact us to learn more....<br />\nshrewsburystitalianparade@gmail.com</span>
LOCATION:4th & 1 Sports Club 7 Muskeego Street Worcester\, MA
UID:e.2083.16695
SEQUENCE:3
DTSTAMP:20260420T170804Z
URL:https://business.cmschamber.org/events/details/sship-meat-raffle-fundraiser-16695
END:VEVENT

END:VCALENDAR
