BEGIN:VCALENDAR
VERSION:2.0
PRODID:-//ChamberMaster//Event Calendar 2.0//EN
METHOD:PUBLISH
X-PUBLISHED-TTL:P3D
REFRESH-INTERVAL:P3D
CALSCALE:GREGORIAN
BEGIN:VEVENT
DTSTART:20240115T230000Z
DTEND:20240116T000000Z
X-MICROSOFT-CDO-ALLDAYEVENT:FALSE
SUMMARY:SSIHP Committee Meeting
DESCRIPTION:Join us to learn about Shrewsbury Street Italian Heritage Parade.\n\nNew Members are WELCOME!!!
X-ALT-DESC;FMTTYPE=text/html:Join us to learn about Shrewsbury Street Italian Heritage Parade.<br />\nNew Members are WELCOME!!!<br />\n&nbsp\;
LOCATION:201 East Side Post 326 Plantation Street Worcester\, MA
UID:e.2083.17234
SEQUENCE:3
DTSTAMP:20260420T134843Z
URL:https://business.cmschamber.org/events/details/ssihp-committee-meeting-17234
END:VEVENT

END:VCALENDAR
