BEGIN:VCALENDAR
VERSION:2.0
PRODID:-//ChamberMaster//Event Calendar 2.0//EN
METHOD:PUBLISH
X-PUBLISHED-TTL:P3D
REFRESH-INTERVAL:P3D
CALSCALE:GREGORIAN
BEGIN:VEVENT
DTSTART:20190327T200000Z
DTEND:20190327T230000Z
X-MICROSOFT-CDO-ALLDAYEVENT:FALSE
SUMMARY:Start Me Up Legal Conference
DESCRIPTION:Formation\, Operational\, and Exit Strategies for Innovators\n\n \n\nAccording to the U.S. Small Business Administration\, more than half of all startups fail within the first five years. Why do so many fail? Arguably the most overlooked factor is a lack of legal guidance. Our panel of experts is here to help with a program specifically tailored to the needs of budding entrepreneurs. Learn how to plan\, start\, build\, and maintain a lean startup like a pro!\n\n \n\nQuestions and topics that will be addressed:\n\n	What type of entity should I form?\n	What kind of governing agreements do I need?\n	How do I protect my entity's intellectual property?\n	How do I protect myself in the event of death\, disability or departure of a co-founder?\n	How do I incentivize employees?\n	What are my tax obligations as a business owner?\n	Should I have an employment agreement?\n	When and how do I register a trademark or copyright\, or file for a patent?\n	Do I need a lawyer to review contracts before I sign them?\n	What do angel and VC investors look for?\n	What laws do I need to comply with to take in investment funds?\n	How can I prepare for an exit event?\n\n  \n\nINTRODUCTION \n\nBrad McNamara\, Freight Farms\, Inc. \n\n \n\nFORMATION AND FINANCING\n\nAiVi Nguyen\, Bowditch & Dewey LLP (moderator)\n\nJulie O'Neill\, Bowditch & Dewey LLP \n\nMatthew Morris\, Bowditch & Dewey LLP \n\nJeffrey Parker\, GrandBanks Capital\n\nAaron Birt\, Solvus Global\n\n \n\nOPERATIONS\n\nGiselle Rivera-Flores\, The Learning Hub (moderator)\n\nBrian Mullin\, Bowditch & Dewey LLP\n\nStacy Chin\, HydroGlyde Coatings\, LLC \n\nDavid Crouch\, ten24\n\n \n\nEXIT STRATEGIES\n\nJoe Vignaly\, Business Strategy Consulting Partners (moderator)\n\nGeorge Tetler\, Bowditch & Dewey LLP\n\nDonna Levin\, Worcester Polytechnic Institute\n\nJohn Joseph\, Datanomix
X-ALT-DESC;FMTTYPE=text/html:<span style="font-family:arial\;"><strong>Formation\, Operational\, and Exit Strategies for Innovators</strong><br />\n&nbsp\;<br />\n<span style="color:#333333\;">According to the U.S. Small Business Administration\, more than half of all startups fail within the first five years. Why do so many fail? Arguably the most overlooked factor is a lack of legal guidance. Our panel of experts is here to help with a program specifically tailored to the needs of budding entrepreneurs. Learn how to plan\, start\, build\, and maintain a lean startup like a pro!</span><br />\n&nbsp\;<br />\n<strong><span style="color:#34B9C9\;">Questions and topics that will be addressed:</span></strong></span>\n<ul>\n	<li style="color:#333333\;"><span style="font-family:arial\;">What type of entity should I form?</span></li>\n	<li style="color:#333333\;"><span style="font-family:arial\;">What kind of governing agreements do I need?</span></li>\n	<li style="color:#333333\;"><span style="font-family:arial\;">How do I protect my entity&#39\;s intellectual property?</span></li>\n	<li style="color:#333333\;"><span style="font-family:arial\;">How do I protect myself in the event of death\, disability or departure of a co-founder?</span></li>\n	<li style="color:#333333\;"><span style="font-family:arial\;">How do I incentivize employees?</span></li>\n	<li style="color:#333333\;"><span style="font-family:arial\;">What are my tax obligations as a business owner?</span></li>\n	<li style="color:#333333\;"><span style="font-family:arial\;">Should I have an employment agreement?</span></li>\n	<li style="color:#333333\;"><span style="font-family:arial\;">When and how do I register a trademark or copyright\, or file for a patent?</span></li>\n	<li style="color:#333333\;"><span style="font-family:arial\;">Do I need a lawyer to review contracts before I sign them?</span></li>\n	<li style="color:#333333\;"><span style="font-family:arial\;">What do angel and VC investors look for?</span></li>\n	<li style="color:#333333\;"><span style="font-family:arial\;">What laws do I need to comply with to take in investment funds?</span></li>\n	<li style="color:#333333\;"><span style="font-family:arial\;">How can I prepare for an exit event?</span></li>\n</ul>\n<span style="font-family:arial\;"> &nbsp\;<br />\n<strong><span style="color:#FF6600\;">INTRODUCTION&nbsp\;</span></strong><br />\n<span style="color:#333333\;">Brad McNamara\, <a href="https://url.emailprotection.link/?aEfqWnWJHlzsblabAk9BPUy2GDycwxrAMKAyuhBLfvZ6ieSq9hJNHSH5KBquEPoGPgRXvDF8AC-K2kDGL4YjOf11InaV6AtR_g_WSJ9qbVvMQ6gZvGe_nYX6hihbfqLMy184nx5VRY6t1toOhwaRLBVYKofYneqEaWqbrzEGQwrk~" target="_blank"><span style="color:#33A2B0\;">Freight Farms\, Inc.</span></a> </span><br />\n&nbsp\;<br />\n<strong><span style="color:#FF6600\;">FORMATION AND FINANCING</span></strong><br />\n<span style="color:#333333\;"><a href="https://url.emailprotection.link/?aEfqWnWJHlzsblabAk9BPUy2GDycwxrAMKAyuhBLfvZ6ieSq9hJNHSH5KBquEPoGPgRXvDF8AC-K2kDGL4YjOf11InaV6AtR_g_WSJ9qbVvMob0STwsVMaUa8gZf1S7_fFhvCXRYQjS76q4LalaUi9JHGNN4wnVtTwD9ERlSjHj9fWmZw00PJXzOwqZDSJ5Z0ABTdTi4F7IRQaT6xfqimFw~~" target="_blank"><span style="color:#33A2B0\;">AiVi Nguyen</span></a>\, Bowditch &amp\; Dewey LLP (moderator)</span><br />\n<span style="color:#333333\;"><a href="https://url.emailprotection.link/?aEfqWnWJHlzsblabAk9BPUy2GDycwxrAMKAyuhBLfvZ6ieSq9hJNHSH5KBquEPoGPgRXvDF8AC-K2kDGL4YjOf11InaV6AtR_g_WSJ9qbVvMob0STwsVMaUa8gZf1S7_fFhvCXRYQjS76q4LalaUi9O7aqNRDwAhAY-T6csSI6npSXmKp-w-g8yy_lfC78__GvJODw_Q8mx77pREgxnQUJA~~" target="_blank"><span style="color:#33A2B0\;">Julie O&#39\;Neill</span></a>\, Bowditch &amp\; Dewey LLP </span><br />\n<span style="color:#333333\;"><a href="https://url.emailprotection.link/?aEfqWnWJHlzsblabAk9BPUy2GDycwxrAMKAyuhBLfvZ6ieSq9hJNHSH5KBquEPoGPgRXvDF8AC-K2kDGL4YjOf11InaV6AtR_g_WSJ9qbVvMob0STwsVMaUa8gZf1S7_fFhvCXRYQjS76q4LalaUi9LtZxHxllZg2gjm0FgirGCThNGhiJx6U1ZlyEuV0ru0NsxroPIYjxgFHQWystTJmow~~" target="_blank"><span style="color:#33A2B0\;">Matthew Morris</span></a>\, Bowditch &amp\; Dewey LLP </span><br />\n<span style="color:#333333\;"><a href="https://url.emailprotection.link/?aEfqWnWJHlzsblabAk9BPUy2GDycwxrAMKAyuhBLfvZ6ieSq9hJNHSH5KBquEPoGPgRXvDF8AC-K2kDGL4YjOf8V0-00tNeANAynmiN2O2bGq434zD7UCTi9h6uq-ZFc9fIgRPs1MuSJ46oJvrk_FvZWgcsnCjBJrzxXGP6Ytm3QWMQtpDOAEW8_WOO0PBuxVY5Y9Nu0RA1rMFFSFDIVBzw~~" target="_blank"><span style="color:#33A2B0\;">Jeffrey Parker</span></a>\, <a href="https://url.emailprotection.link/?aEfqWnWJHlzsblabAk9BPUy2GDycwxrAMKAyuhBLfvZ6ieSq9hJNHSH5KBquEPoGPgRXvDF8AC-K2kDGL4YjOf8V0-00tNeANAynmiN2O2bGq434zD7UCTi9h6uq-ZFc9fIgRPs1MuSJ46oJvrk_FvZWde3iUc8H-8ZREIZ_LN5w~" target="_blank"><span style="color:#33A2B0\;">GrandBanks Capital</span></a></span><br />\n<span style="color:#333333\;"><a href="https://url.emailprotection.link/?aEfqWnWJHlzsblabAk9BPUy2GDycwxrAMKAyuhBLfvZ6ieSq9hJNHSH5KBquEPoGPgRXvDF8AC-K2kDGL4YjOf11InaV6AtR_g_WSJ9qbVvNpuH_-gwLldlfeoJvlVLIfQzVZ-WzHX61UKWtf4Au1Y_fGaTeqYQRKl8Qmn1yLa8c~" target="_blank"><span style="color:#33A2B0\;">Aaron Birt</span></a>\, <a href="https://url.emailprotection.link/?aEfqWnWJHlzsblabAk9BPUy2GDycwxrAMKAyuhBLfvZ6ieSq9hJNHSH5KBquEPoGPgRXvDF8AC-K2kDGL4YjOf11InaV6AtR_g_WSJ9qbVvNpuH_-gwLldlfeoJvlVLIfDqQu6w67nxDCGrTUSH4Gdz1DulAcvSB70lWiC31ZIkc~" target="_blank"><span style="color:#33A2B0\;">Solvus Global</span></a></span><br />\n&nbsp\;<br />\n<strong><span style="color:#FF6600\;">OPERATIONS</span></strong><br />\n<span style="color:#333333\;"><a href="https://url.emailprotection.link/?aEfqWnWJHlzsblabAk9BPUy2GDycwxrAMKAyuhBLfvZ6ieSq9hJNHSH5KBquEPoGPgRXvDF8AC-K2kDGL4YjOf8V0-00tNeANAynmiN2O2bFTqIhCAHgebtO2b3CyAaVT0xMncNP8aaOnKJ8ZV1cMV4vxQMVd9krkpAIL83drgN_5pcsCvpCBDvvLFbalji2M0wxIJUi03ADx6t3MNibkULkoQXd5n_UEeSsYVwGXXBdTatlsMhuOYK6pDsDKCQ53" target="_blank"><span style="color:#33A2B0\;">Giselle Rivera-Flores</span></a>\, The Learning Hub (moderator)</span><br />\n<span style="color:#333333\;"><a href="https://url.emailprotection.link/?aEfqWnWJHlzsblabAk9BPUy2GDycwxrAMKAyuhBLfvZ6ieSq9hJNHSH5KBquEPoGPgRXvDF8AC-K2kDGL4YjOf11InaV6AtR_g_WSJ9qbVvMob0STwsVMaUa8gZf1S7_fFhvCXRYQjS76q4LalaUi9Fcajq0JQMLrZ59XL8uIo815clVDslLO0UVjGLybS8hBNIcyG-TLx_taaRh7iyEifA~~" target="_blank"><span style="color:#33A2B0\;">Brian Mullin</span></a>\, Bowditch &amp\; Dewey LLP</span><br />\n<span style="color:#333333\;"><a href="https://url.emailprotection.link/?aEfqWnWJHlzsblabAk9BPUy2GDycwxrAMKAyuhBLfvZ6ieSq9hJNHSH5KBquEPoGPgRXvDF8AC-K2kDGL4YjOf11InaV6AtR_g_WSJ9qbVvP2Dkbl9k0fmt4s-6-1dxnXJo6jBpGg5gnH2qIrL_nwg8QtjovpaWWaN97lTIENjx0~" target="_blank"><span style="color:#33A2B0\;">Stacy Chin</span></a>\, <a href="https://url.emailprotection.link/?aEfqWnWJHlzsblabAk9BPUy2GDycwxrAMKAyuhBLfvZ6ieSq9hJNHSH5KBquEPoGPgRXvDF8AC-K2kDGL4YjOf11InaV6AtR_g_WSJ9qbVvOdk3Qb3mSxtMUnLxUeV8f7rhOwFnvwhCCgvd3iEWgFm4NQ_RCvNjWBJvEjpxGPEog~" target="_blank"><span style="color:#33A2B0\;">HydroGlyde Coatings\, LLC</span></a> </span><br />\n<span style="color:#333333\;"><a href="https://url.emailprotection.link/?aEfqWnWJHlzsblabAk9BPUy2GDycwxrAMKAyuhBLfvZ6ieSq9hJNHSH5KBquEPoGPgRXvDF8AC-K2kDGL4YjOf11InaV6AtR_g_WSJ9qbVvMeteEgWYLH6cm-PvrFZ7JY8TIRyyIf3DzPi7msczEstRMxcCGl_kpnzL5iDekCPhbr0pGpso4j-741dlju3B9vHePuUDUInYkyZaaQzazD2g~~" target="_blank"><span style="color:#33A2B0\;">David Crouch</span></a>\, <a href="https://url.emailprotection.link/?aEfqWnWJHlzsblabAk9BPUy2GDycwxrAMKAyuhBLfvZ6ieSq9hJNHSH5KBquEPoGPgRXvDF8AC-K2kDGL4YjOf11InaV6AtR_g_WSJ9qbVvMeteEgWYLH6cm-PvrFZ7JYvSxeNMePtwvh4h5lKe3JCg3m8Tp3PpVuPMRoQmI0Z2A~" target="_blank"><span style="color:#33A2B0\;">ten24</span></a></span><br />\n&nbsp\;<br />\n<strong><span style="color:#FF6600\;">EXIT STRATEGIES</span></strong><br />\n<span style="color:#333333\;"><a href="https://url.emailprotection.link/?aEfqWnWJHlzsblabAk9BPUy2GDycwxrAMKAyuhBLfvZ6ieSq9hJNHSH5KBquEPoGPgRXvDF8AC-K2kDGL4YjOf11InaV6AtR_g_WSJ9qbVvOYfK-7r_HXoTzu9MjT_9_VGEQAAdL-ikTmB790GTK-9TM-2anxgqzkRkFQqhBMFdEJ7uNeJVUzRRqddo7e5g-G2poPwNotjaqQE-VKT0snig~~" target="_blank"><span style="color:#33A2B0\;">Joe Vignaly</span></a>\, Business Strategy Consulting Partners (moderator)</span><br />\n<span style="color:#333333\;"><a href="https://url.emailprotection.link/?aEfqWnWJHlzsblabAk9BPUy2GDycwxrAMKAyuhBLfvZ6ieSq9hJNHSH5KBquEPoGPgRXvDF8AC-K2kDGL4YjOf11InaV6AtR_g_WSJ9qbVvMob0STwsVMaUa8gZf1S7_fFhvCXRYQjS76q4LalaUi9CTKEizHnl--vTYIK1WTIX510grQYvBxM5X1Rq7OiCCpbV9r0G6k7Nr7Tbkko2SDPg~~" target="_blank"><span style="color:#33A2B0\;">George Tetler</span></a>\, Bowditch &amp\; Dewey LLP</span><br />\n<a href="https://url.emailprotection.link/?aEfqWnWJHlzsblabAk9BPU0LRH8tHri17r_-d_xGC4rewEt0GozarLAsAioKieN7MsClvatW9X-6FYFXIIIzEyukI7Hg1NToMlsX1W2pFrrGmqH0jVPJ9i_lTbOsXevpsOrgk39NFkkhHK-lEADU9Y13HDpSmxrgdCJKjG1YM-JU~" target="_blank"><span style="color:#00AFD7\;">Donna Levin</span></a>\, Worcester Polytechnic Institute<br />\n<a href="https://url.emailprotection.link/?aEfqWnWJHlzsblabAk9BPU0LRH8tHri17r_-d_xGC4rewEt0GozarLAsAioKieN7MsClvatW9X-6FYFXIIIzEyukI7Hg1NToMlsX1W2pFrrGxUZN1f6tPqSYINIU0sj9VnobMGNIa06Buouz4x0JoGdADvyG3vohgQ1zxDJmFCNk~" target="_blank"><span style="color:#00AFD7\;">John Joseph</span></a>\, Datanomix</span>
LOCATION:AC Marriott 125 Front Street Worcester\, MA 01608 Parking: Worcester Common Parking Garage entrance location on Trumbull Street. Parking is located under hotel.
UID:e.2083.9461
SEQUENCE:3
DTSTAMP:20260424T092022Z
URL:https://business.cmschamber.org/events/details/start-me-up-legal-conference-9461
END:VEVENT

END:VCALENDAR
