BEGIN:VCALENDAR
VERSION:2.0
PRODID:-//ChamberMaster//Event Calendar 2.0//EN
METHOD:PUBLISH
X-PUBLISHED-TTL:P3D
REFRESH-INTERVAL:P3D
CALSCALE:GREGORIAN
BEGIN:VEVENT
DTSTART:20221116T170000Z
DTEND:20221116T180000Z
X-MICROSOFT-CDO-ALLDAYEVENT:FALSE
SUMMARY:Starting a Non-Profit 101
DESCRIPTION:Thinking of starting a nonprofit organization? This course will help you determine if starting a nonprofit organization is right for you and what legal steps you need to take to get started! In this course\, we'll walk through the basic differences between nonprofit and for-profit models\, and explain the steps required to incorporate and register your nonprofit organization with the state of Massachusetts and to qualify for federal tax exemption with the IRS.\n\nHarvard Law School students Hayoung Lee and Elizabeth Turner will be conducting the presentation in conjunction with TLC Clinical Instructors: Carmen Halford and Patricia Alejandro (See attorney bios below).\n\nThe workshop will consist of a 1-hour virtual presentation\, including three five-minute interactive audience Q&A sessions.
X-ALT-DESC;FMTTYPE=text/html:<p>Thinking of starting a nonprofit organization? This course will help you determine if starting a nonprofit organization is right for you and&nbsp\;what legal steps you need to take to get started! In this course\, we&rsquo\;ll walk through the basic differences between nonprofit and for-profit models\, and explain the steps required to&nbsp\;incorporate and&nbsp\;register your nonprofit organization with the state of Massachusetts and to qualify for federal tax exemption with the IRS.</p>\n\n<p>Harvard Law School students Hayoung Lee and Elizabeth Turner will be conducting the presentation in conjunction with TLC Clinical Instructors: Carmen Halford and Patricia Alejandro (See attorney bios below).</p>\n\n<p>The workshop will consist of a 1-hour virtual presentation\, including three five-minute interactive audience Q&amp\;A sessions.</p>\n
LOCATION:Zoom
UID:e.2083.14849
SEQUENCE:3
DTSTAMP:20260421T142302Z
URL:https://business.cmschamber.org/events/details/starting-a-non-profit-101-14849
END:VEVENT

END:VCALENDAR
