BEGIN:VCALENDAR
VERSION:2.0
PRODID:-//ChamberMaster//Event Calendar 2.0//EN
METHOD:PUBLISH
X-PUBLISHED-TTL:P3D
REFRESH-INTERVAL:P3D
CALSCALE:GREGORIAN
BEGIN:VEVENT
DTSTART:20220929T200000Z
DTEND:20220929T220000Z
X-MICROSOFT-CDO-ALLDAYEVENT:FALSE
SUMMARY:Startup Worcester Reception 2022
DESCRIPTION:Members of the entrepreneurship support community in the Worcester area are welcome to join the Worcester Regional Chamber of Commerce in introducing the 2022-2023 participants of the StartUp Worcester program. Food to be provided. \n\n\n\nThis year's cohort includes:\n\n	Applied Industrial Measurements\n	BrainFed Skateboards\n	Cover Origin\n	Culture Redesigned\n	EcommBeam\n	Factorize\n	Girly Girl Soaps\n	GoImagine.com\n	JJ & Co.\n	K Sense Co.\n	Nataiwi Products\n	Nayath\n\nWe look forward to having you.\n\n\n\n\n\nStartUp Worcester 2022-2023 Sponsors\n\n\n\nPresenting Sponsor\n\nBerkshire Bank\n\n\n\nSupporting Sponsors\n\nBetter Business Bureau\n\nSCORE
X-ALT-DESC;FMTTYPE=text/html:Members of the entrepreneurship support community in the Worcester area are welcome to join the Worcester Regional Chamber of Commerce in introducing the 2022-2023 participants of the StartUp Worcester program. Food to be provided.&nbsp\;<br />\n<br />\nThis year&#39\;s cohort includes:\n<ul>\n	<li>Applied Industrial Measurements</li>\n	<li>BrainFed Skateboards</li>\n	<li>Cover Origin</li>\n	<li>Culture Redesigned</li>\n	<li>EcommBeam</li>\n	<li>Factorize</li>\n	<li>Girly Girl Soaps</li>\n	<li>GoImagine.com</li>\n	<li>JJ &amp\; Co.</li>\n	<li>K Sense Co.</li>\n	<li>Nataiwi Products</li>\n	<li>Nayath</li>\n</ul>\nWe look forward to having you.<br />\n<br />\n<br />\n<strong style="font-size: 14px\;">StartUp Worcester 2022-2023 Sponsors<br />\n<br />\nPresenting Sponsor</strong><br style="font-size: 14px\;" />\n<span style="font-size: 14px\;">Berkshire Bank</span><br style="font-size: 14px\;" />\n<br style="font-size: 14px\;" />\n<strong style="font-size: 14px\;">Supporting Sponsors</strong><br style="font-size: 14px\;" />\n<span style="font-size: 14px\;">Better Business Bureau</span><br style="font-size: 14px\;" />\n<span style="font-size: 14px\;">SCORE</span><br />\n<br />\n<br />\n<br />\n&nbsp\;
LOCATION:In-person WorcLab 44 Portland St\, 4th floor Worcester\, MA
UID:e.2083.13709
SEQUENCE:3
DTSTAMP:20260421T154556Z
URL:https://business.cmschamber.org/events/details/startup-worcester-reception-2022-13709
END:VEVENT

END:VCALENDAR
