BEGIN:VCALENDAR
VERSION:2.0
PRODID:-//ChamberMaster//Event Calendar 2.0//EN
METHOD:PUBLISH
X-PUBLISHED-TTL:P3D
REFRESH-INTERVAL:P3D
CALSCALE:GREGORIAN
BEGIN:VEVENT
DTSTART:20210818T210000Z
DTEND:20210818T230000Z
X-MICROSOFT-CDO-ALLDAYEVENT:FALSE
SUMMARY:Steamers at Sunset - Blackstone Valley Chamber
DESCRIPTION:Join us for live music and delicious food. Arrive in your summer's finest and you could win the Golden Lobster Award for best dressed!
X-ALT-DESC;FMTTYPE=text/html:Join us for live music and delicious food. Arrive in your summer&#39\;s finest and you could win the Golden Lobster Award for best dressed!
LOCATION:The Barn At Blissful Meadows Golf Club Uxbridge\, MA
UID:e.2083.12996
SEQUENCE:3
DTSTAMP:20260422T115811Z
URL:https://business.cmschamber.org/events/details/steamers-at-sunset-blackstone-valley-chamber-12996
END:VEVENT

END:VCALENDAR
