BEGIN:VCALENDAR
VERSION:2.0
PRODID:-//ChamberMaster//Event Calendar 2.0//EN
METHOD:PUBLISH
X-PUBLISHED-TTL:P3D
REFRESH-INTERVAL:P3D
CALSCALE:GREGORIAN
BEGIN:VEVENT
DTSTART:20240213T180000Z
DTEND:20240213T193000Z
X-MICROSOFT-CDO-ALLDAYEVENT:FALSE
SUMMARY:Steps to Start a Business
DESCRIPTION:If you are considering starting a business or in the early stages of launching one\, this workshop will outline everything you need to know.  In this workshop\, you will:\n\n\n	Develop your business idea and planning\n	Review the importance of a business plan\n	Gain an understanding of the process and requirements for starting a business\, including\;\n	Legal structures\n	How to choose and register a business name and entity\n	How to obtain an employer identification number\, licenses\, permits and insurance\n	Determining your financing needs\n	Understanding employer responsibilities\n	Learn about available resources and training\n\n\nYou will leave the session with an A-to-Z overview\, and specific tools and tips that will help you get started quickly.
X-ALT-DESC;FMTTYPE=text/html:<p>If you are considering starting a business or in the early stages of launching one\, this workshop will outline everything you need to know.&nbsp\; In this workshop\, you will:</p>\n\n<ul>\n	<li>Develop your business idea and planning</li>\n	<li>Review the importance of a business plan</li>\n	<li>Gain an understanding of the process and requirements for starting a business\, including\;</li>\n	<li>Legal structures</li>\n	<li>How to choose and register a business name and entity</li>\n	<li>How to obtain an employer identification number\, licenses\, permits and insurance</li>\n	<li>Determining your financing needs</li>\n	<li>Understanding employer responsibilities</li>\n	<li>Learn about available resources and training</li>\n</ul>\n\n<p>You will leave the session with an A-to-Z overview\, and specific tools and tips that will help you get started quickly.</p>\n
LOCATION:Virtual
UID:e.2083.17242
SEQUENCE:3
DTSTAMP:20260420T120500Z
URL:https://business.cmschamber.org/events/details/steps-to-start-a-business-02-13-2024-17242
END:VEVENT

END:VCALENDAR
