BEGIN:VCALENDAR
VERSION:2.0
PRODID:-//ChamberMaster//Event Calendar 2.0//EN
METHOD:PUBLISH
X-PUBLISHED-TTL:P3D
REFRESH-INTERVAL:P3D
CALSCALE:GREGORIAN
BEGIN:VEVENT
DTSTART:20230718T130000Z
DTEND:20230718T150000Z
X-MICROSOFT-CDO-ALLDAYEVENT:FALSE
SUMMARY:Steps to Start a Business
DESCRIPTION:If you are considering starting a business or in the early stages of launching one\, this workshop will outline everything you need to know. In this workshop\, you will:\n\n\n	Develop your business idea and planning\n	Review the importance of a business plan\n	Gain an understanding of the process and requirements for starting a business\, including\;\n	Legal structures\n	How to choose and register a business name and entity How to obtain an employer identification number\, licenses\, permits and insurance\n	Determining your financing needs\n	Understanding employer responsibilities\n	Learn about available resources and training
X-ALT-DESC;FMTTYPE=text/html:<p><span style="font-family:tahoma\,arial\,helvetica\,sans-serif\; font-size:12pt">If you are considering starting a business or in the early stages of launching one\, this workshop will outline everything you need to know. In this workshop\, you will:</span></p>\n\n<ul>\n	<li><span style="font-family:tahoma\,arial\,helvetica\,sans-serif\; font-size:12pt">Develop your business idea and planning</span></li>\n	<li><span style="font-family:tahoma\,arial\,helvetica\,sans-serif\; font-size:12pt">Review the importance of a business plan</span></li>\n	<li><span style="font-family:tahoma\,arial\,helvetica\,sans-serif\; font-size:12pt">Gain an understanding of the process and requirements for starting a business\, including\;</span></li>\n	<li><span style="font-family:tahoma\,arial\,helvetica\,sans-serif\; font-size:12pt">Legal structures</span></li>\n	<li><span style="font-family:tahoma\,arial\,helvetica\,sans-serif\; font-size:12pt">How to choose and register a business name and entity How to obtain an employer identification number\, licenses\, permits and insurance</span></li>\n	<li><span style="font-family:tahoma\,arial\,helvetica\,sans-serif\; font-size:12pt">Determining your financing needs</span></li>\n	<li><span style="font-family:tahoma\,arial\,helvetica\,sans-serif\; font-size:12pt">Understanding employer responsibilities</span></li>\n	<li><span style="font-family:tahoma\,arial\,helvetica\,sans-serif\; font-size:12pt">Learn about available resources and training</span></li>\n</ul>\n
LOCATION:Zoom
UID:e.2083.15989
SEQUENCE:3
DTSTAMP:20260421T005005Z
URL:https://business.cmschamber.org/events/details/steps-to-start-a-business-07-18-2023-15989
END:VEVENT

END:VCALENDAR
