BEGIN:VCALENDAR
VERSION:2.0
PRODID:-//ChamberMaster//Event Calendar 2.0//EN
METHOD:PUBLISH
X-PUBLISHED-TTL:P3D
REFRESH-INTERVAL:P3D
CALSCALE:GREGORIAN
BEGIN:VEVENT
DTSTART:20210305T160000Z
DTEND:20210305T170000Z
X-MICROSOFT-CDO-ALLDAYEVENT:FALSE
SUMMARY:Steps to Start a Business
DESCRIPTION:If you are considering starting a business or in the early stages of launching one\, this workshop will outline everything you need to know.  In this workshop\, you will:\n\n\n	Develop your business idea and planning\n	Review the importance of a business plan\n	Gain an understanding of the process and requirements for starting a business\, including\;\n	Legal structures\n	How to choose and register a business name and entity\n	How to obtain an employer identification number\, licenses\, permits and insurance\n	Determining your financing needs\n	Understanding employer responsibilities\n	Learn about available resources and training\n\n\nYou will leave the session with an A-to-Z overview\, and specific tools and tips that will help you get started quickly.\n\n\n\nClick Here to Register.?
X-ALT-DESC;FMTTYPE=text/html:<p style="text-align:left">If you are considering starting a business or in the early stages of launching one\, this workshop will outline everything you need to know.&nbsp\; In this workshop\, you will:</p>\n\n<ul>\n	<li>Develop your business idea and planning</li>\n	<li>Review the importance of a business plan</li>\n	<li>Gain an understanding of the process and requirements for starting a business\, including\;</li>\n	<li>Legal structures</li>\n	<li>How to choose and register a business name and entity</li>\n	<li>How to obtain an employer identification number\, licenses\, permits and insurance</li>\n	<li>Determining your financing needs</li>\n	<li>Understanding employer responsibilities</li>\n	<li>Learn about available resources and training</li>\n</ul>\n\n<p style="text-align:left">You will leave the session with an A-to-Z overview\, and specific tools and tips that will help you get started quickly.<br />\n<br />\n<a href="https://cwewbc.ecenterdirect.com/events/976572">Click Here to Register.?&nbsp\;</a></p>\n
LOCATION:Online Webinar.
UID:e.2083.12706
SEQUENCE:3
DTSTAMP:20260422T175612Z
URL:https://business.cmschamber.org/events/details/steps-to-start-a-business-12706
END:VEVENT

END:VCALENDAR
