BEGIN:VCALENDAR
VERSION:2.0
PRODID:-//ChamberMaster//Event Calendar 2.0//EN
METHOD:PUBLISH
X-PUBLISHED-TTL:P3D
REFRESH-INTERVAL:P3D
CALSCALE:GREGORIAN
BEGIN:VEVENT
DTSTART:20230315T160000Z
DTEND:20230315T220000Z
X-MICROSOFT-CDO-ALLDAYEVENT:FALSE
SUMMARY:Sub Zero Nitrogen Ice Cream Grand Opening/Ribbon Cutting
DESCRIPTION:BOGO   price sale \n	Raffle for "free ice cream for a month"\n	Ribbon cutting around 4 p.m.\n	Free ice cream samples\n	Music and more!
X-ALT-DESC;FMTTYPE=text/html:<ul>\n	<li><span style="font-size:14.0pt">BOGO &frac12\; price sale </span></li>\n	<li><span style="font-size:14.0pt">R<span style="font-size:14.0pt">affle for &ldquo\;free ice cream for a month&rdquo\;</span></span></li>\n	<li><span style="font-size:14.0pt">Ribbon cutting around 4 p.m.</span></li>\n	<li><span style="font-size:14.0pt"><span style="font-size:14.0pt">Free ice cream samples</span></span></li>\n	<li><span style="font-size:14.0pt"><span style="font-size:14.0pt"><span style="font-size:14.0pt">Music and more!</span></span></span></li>\n</ul>\n
LOCATION:44 Front Street\, Worcester\, MA
UID:e.2083.15009
SEQUENCE:3
DTSTAMP:20260421T075055Z
URL:https://business.cmschamber.org/events/details/sub-zero-nitrogen-ice-cream-grand-opening-ribbon-cutting-15009
END:VEVENT

END:VCALENDAR
