BEGIN:VCALENDAR
VERSION:2.0
PRODID:-//ChamberMaster//Event Calendar 2.0//EN
METHOD:PUBLISH
X-PUBLISHED-TTL:P3D
REFRESH-INTERVAL:P3D
CALSCALE:GREGORIAN
BEGIN:VEVENT
DTSTART;VALUE=DATE:20230730
DTEND;VALUE=DATE:20230731
TRANSP:TRANSPARENT
X-MICROSOFT-CDO-ALLDAYEVENT:TRUE
SUMMARY:Summer Camp
DESCRIPTION:Our traditional Camp Program provides children and teens with the iconic New England summer camp experience. We offer a variety of programs\, both day and overnight\, for campers ages 4 to 16. For more program information and registration detail please visit our website at www.campmarshall.net or call our office at 508-885-4891.
X-ALT-DESC;FMTTYPE=text/html:Our traditional Camp Program provides children and teens with the iconic New England summer camp experience. We offer a variety of programs\, both day and overnight\, for campers ages 4 to 16. For more program information and registration detail please visit our website at www.campmarshall.net or call our office at 508-885-4891.&nbsp\;
LOCATION:Camp Marshall 92 McCormick Rd. Spencer MA 01562
UID:e.2083.15034
SEQUENCE:3
DTSTAMP:20260420T224707Z
URL:https://business.cmschamber.org/events/details/summer-camp-07-30-2023-15034
END:VEVENT

END:VCALENDAR
