BEGIN:VCALENDAR
VERSION:2.0
PRODID:-//ChamberMaster//Event Calendar 2.0//EN
METHOD:PUBLISH
X-PUBLISHED-TTL:P3D
REFRESH-INTERVAL:P3D
CALSCALE:GREGORIAN
BEGIN:VEVENT
DTSTART:20210617T220000Z
DTEND:20210827T000000Z
X-MICROSOFT-CDO-ALLDAYEVENT:FALSE
SUMMARY:SUMMER THURSDAY EVENINGS AT TOWER HILL
DESCRIPTION:SUMMER THURSDAY EVENINGS AT TOWER HILL JUNE-JULY\, 2021 | 5 9 pm AUGUST\, 2021 | 5 8 pm Tower Hill Botanic Garden will be open for extended hours from 5 9 pm on Thursdays throughout June and July\, and 5-8 pm on Thursdays throughout August (Rain or Shine). Explore the gardens while enjoying live music\, playing fun lawn games\, and hiking our woodland trails. Enjoy food and drinks at our caf \, watch the sunset over the Wachusett Reservoir\, and choose from a wide variety of scheduled programs for both children and adults. Free for members / non-member adults $16 /seniors $11 / children (6-18) $6 Please note that these evenings are pre-ticketed only. Entry tickets must be reserved online in advance.
X-ALT-DESC;FMTTYPE=text/html:SUMMER THURSDAY EVENINGS AT TOWER HILL JUNE-JULY\, 2021 | 5&ndash\;9 pm AUGUST\, 2021 | 5&ndash\;8 pm Tower Hill Botanic Garden will be open for extended hours from 5&ndash\;9 pm on Thursdays throughout June and July\, and 5-8 pm on Thursdays throughout August (Rain or Shine). Explore the gardens while enjoying live music\, playing fun lawn games\, and hiking our woodland trails. Enjoy food and drinks at our caf&eacute\;\, watch the sunset over the Wachusett Reservoir\, and choose from a wide variety of scheduled programs for both children and adults. Free for members / non-member adults $16 /seniors $11 / children (6-18) $6 Please note that these evenings are pre-ticketed only. Entry tickets must be reserved online in advance.
LOCATION:Tower Hill Botanic Garden 11 French Drive Boylston
UID:e.2083.12985
SEQUENCE:3
DTSTAMP:20260422T103353Z
URL:https://business.cmschamber.org/events/details/summer-thursday-evenings-at-tower-hill-12985
END:VEVENT

END:VCALENDAR
