BEGIN:VCALENDAR
VERSION:2.0
PRODID:-//ChamberMaster//Event Calendar 2.0//EN
METHOD:PUBLISH
X-PUBLISHED-TTL:P3D
REFRESH-INTERVAL:P3D
CALSCALE:GREGORIAN
BEGIN:VEVENT
DTSTART:20220925T130000Z
DTEND:20220925T200000Z
X-MICROSOFT-CDO-ALLDAYEVENT:FALSE
SUMMARY:Summit Agency Annual Golf Tournament
DESCRIPTION:Bring your team to Summit's Golf Tournament on Sunday\, September 25th at Quail Hollow Golf Club in beautiful Oakham\, MA. Your participation or sponsorship will support the Community Access Program for the Academy & Campus students during the upcoming academic year.
X-ALT-DESC;FMTTYPE=text/html:Bring your team to Summit&#39\;s Golf Tournament on Sunday\, September 25th at Quail Hollow Golf Club in beautiful Oakham\, MA. Your participation or sponsorship will support the Community Access Program for the Academy &amp\; Campus students during the upcoming academic year.
LOCATION:Quail Hollow Golf Club 1822 Old Turnpike Road Oakham\, MA 01068
UID:e.2083.14022
SEQUENCE:3
DTSTAMP:20260421T154938Z
URL:https://business.cmschamber.org/events/details/summit-agency-annual-golf-tournament-14022
END:VEVENT

END:VCALENDAR
