BEGIN:VCALENDAR
VERSION:2.0
PRODID:-//ChamberMaster//Event Calendar 2.0//EN
METHOD:PUBLISH
X-PUBLISHED-TTL:P3D
REFRESH-INTERVAL:P3D
CALSCALE:GREGORIAN
BEGIN:VEVENT
DTSTART:20211009T120000Z
DTEND:20211009T210000Z
X-MICROSOFT-CDO-ALLDAYEVENT:FALSE
SUMMARY:Summit Agency Golf Tournament
DESCRIPTION:Enjoy a beautiful fall day and golf to support Summit Academy through their first annual golf tournament. Summit Academy is the only licensed therapeutic school in Worcester specializing in programming for students with Autism All proceeds will support the academy's programs.
X-ALT-DESC;FMTTYPE=text/html:Enjoy a beautiful fall day and golf to support Summit Academy through their first annual golf tournament. Summit Academy is the only licensed therapeutic school in Worcester specializing in programming for students with Autism All proceeds will support the academy&#39\;s programs.
LOCATION:Quail Hollow Golf Course 1822 Old Turnpike Rd Oakham\, Ma 01608
UID:e.2083.13150
SEQUENCE:3
DTSTAMP:20260422T074935Z
URL:https://business.cmschamber.org/events/details/summit-agency-golf-tournament-13150
END:VEVENT

END:VCALENDAR
