BEGIN:VCALENDAR
VERSION:2.0
PRODID:-//ChamberMaster//Event Calendar 2.0//EN
METHOD:PUBLISH
X-PUBLISHED-TTL:P3D
REFRESH-INTERVAL:P3D
CALSCALE:GREGORIAN
BEGIN:VEVENT
DTSTART:20220202T233000Z
DTEND:20220203T003000Z
X-MICROSOFT-CDO-ALLDAYEVENT:FALSE
SUMMARY:Summit Agency Information Session
DESCRIPTION:The Autism Center of Central MA is hosting Summit Agency for a virtual information session. Join us on Feb 2nd through Zoom\, to learn more about our programs and services: Summit Academy\, Summit Campus\, Summit Health & Wellness Center and Summit Behavioral Services.
X-ALT-DESC;FMTTYPE=text/html:The Autism Center of Central MA is hosting Summit Agency for a virtual information session. Join us on Feb 2nd through Zoom\, to learn more about our programs and services: Summit Academy\, Summit Campus\, Summit Health &amp\; Wellness Center and Summit Behavioral Services.
LOCATION:Virtual Information Session
UID:e.2083.13731
SEQUENCE:3
DTSTAMP:20260422T022108Z
URL:https://business.cmschamber.org/events/details/summit-agency-information-session-13731
END:VEVENT

END:VCALENDAR
