BEGIN:VCALENDAR
VERSION:2.0
PRODID:-//ChamberMaster//Event Calendar 2.0//EN
METHOD:PUBLISH
X-PUBLISHED-TTL:P3D
REFRESH-INTERVAL:P3D
CALSCALE:GREGORIAN
BEGIN:VEVENT
DTSTART:20230721T203000Z
DTEND:20230722T010000Z
X-MICROSOFT-CDO-ALLDAYEVENT:FALSE
SUMMARY:Taste of New England Summer
DESCRIPTION:Join in the celebration of all the favorite New England summertime traditions of yesterday and today. All six New England states will be showcased as the Village transforms into an evening festival filled with tasty food\, regional beverages\, and live music. Purchase tickets.\n\n\n\nSee musicians from all six states performing on different stages throughout the late afternoon and evenings. Taste classic New England treats. Explore the history of beer making and purchase samples from local breweries. Play and learn what games have their roots in New England\, take a relaxing horse-drawn carryall ride around the mill pond\, and more!
X-ALT-DESC;FMTTYPE=text/html:<span style="color:rgb(29\, 16\, 44)\; font-family:museo sans w01\,helvetica neue\,helvetica\,helvetica\,arial\,sans-serif\; font-size:14px">Join in the celebration of all the favorite New England summertime traditions of yesterday and today. All six New England states will be showcased as the Village transforms into an evening festival filled with tasty food\, regional beverages\, and live music. Purchase tickets.</span><br />\n<br />\n<span style="color:rgb(29\, 16\, 44)\; font-family:museo sans w01\,helvetica neue\,helvetica\,helvetica\,arial\,sans-serif\; font-size:14px">See musicians from all six states performing on different stages throughout the late afternoon and evenings. Taste classic New England treats. Explore the history of beer making and purchase samples from local breweries. Play and learn what games have their roots in New England\, take a relaxing horse-drawn carryall ride around the mill pond\, and more!</span>
LOCATION:Old Sturbridge Village 1 Old Sturbridge Village Rd.\, Sturbridge\, MA\, 01566
UID:e.2083.16040
SEQUENCE:3
DTSTAMP:20260420T225010Z
URL:https://business.cmschamber.org/events/details/taste-of-new-england-summer-16040
END:VEVENT

END:VCALENDAR
