BEGIN:VCALENDAR
VERSION:2.0
PRODID:-//ChamberMaster//Event Calendar 2.0//EN
METHOD:PUBLISH
X-PUBLISHED-TTL:P3D
REFRESH-INTERVAL:P3D
CALSCALE:GREGORIAN
BEGIN:VEVENT
DTSTART:20220729T223000Z
DTEND:20220730T010000Z
X-MICROSOFT-CDO-ALLDAYEVENT:FALSE
SUMMARY:Tea Party and Smash
DESCRIPTION:This is a unique experience. You will enjoy one hour outdoors lounging in a boutique tent\, floor pillows and low tables filled with charcuterie boards with meat\, cheese\, fruits and fresh dips to enjoy. Quench your thirst with fresh cold or hot teas from the gardens or a glass of seltzer or wine.\n\nNext you will drive 10 minutes down the road to Smashit2 a place where we break $H!T just for fun. You and everyone in your party will get a bucket of bottles to smash using a baseball bat or thunderstick.
X-ALT-DESC;FMTTYPE=text/html:<span style="font-family:comic sans ms"><span style="background-color:rgb(255\, 255\, 255)\; color:rgb(5\, 5\, 5)\; font-size:15px">This is a unique experience. You will enjoy one hour outdoors lounging in a boutique tent\, floor pillows and low tables filled with charcuterie boards with meat\, cheese\, fruits and fresh dips to enjoy. Quench your thirst with fresh cold or hot teas from the gardens or a glass of seltzer or wine.</span><br />\n<span style="background-color:rgb(255\, 255\, 255)\; color:rgb(5\, 5\, 5)\; font-size:15px">Next you will drive 10 minutes down the road to Smashit2 a place where we break $H!T just for fun. You and everyone in your party will get a bucket of bottles to smash using a baseball bat or thunderstick.</span></span>
LOCATION:Smashit2 - 6B Boulder Parkway\, North Oxford\, MA Use Wase and type in 10 Boulder Parkway\, it will take you right to our building. We also have A-framed signs all over the property pointing you in the right direction. We are at the intersection of Rt 56 and Rt 20. We are in Boulder Industrial Park.
UID:e.2083.13990
SEQUENCE:3
DTSTAMP:20260421T184912Z
URL:https://business.cmschamber.org/events/details/tea-party-and-smash-13990
END:VEVENT

END:VCALENDAR
