BEGIN:VCALENDAR
VERSION:2.0
PRODID:-//ChamberMaster//Event Calendar 2.0//EN
METHOD:PUBLISH
X-PUBLISHED-TTL:P3D
REFRESH-INTERVAL:P3D
CALSCALE:GREGORIAN
BEGIN:VEVENT
DTSTART:20230812T133000Z
DTEND:20230812T210000Z
X-MICROSOFT-CDO-ALLDAYEVENT:FALSE
SUMMARY:Textile Weekend
DESCRIPTION:Have you ever wondered how we know what was made and worn by individuals in the 1830s? During Textile Weekend\, Behind the Scenes & Seams\, we are highlighting original clothing and textile-related objects from the museum's permanent collection while creating new copies for side-by-side comparisons and a closer look at how we know what we know about the past.\n\n\n\nAs a follow up to the popular demonstration in 2022\, special activities during this year's event will include sewing two dresses in real time over the course of the weekend   this time for a mother and daughter! Skilled sewists will assemble for two days to complete all the stitches needed to create two dresses\, while periodically trying the dresses on the wearers to test the fit and showcase progress.\n\n\n\nOther highlighted programming includes:\n\n\n\n- Wool dyeing demonstrations\n\n- Reproducing wooden and tin sewing boxes based on original examples\n\n- Discussion of 1830s knitting and weaving patterns with skilled needleworkers\n\n- Working with a variety of plants and tools to create straw and palm leaf braid for bonnets and hats\n\n- During your visit by sure to check out our Needle & Thread exhibit and recently published book.\n\n\n\nNeedle & Thread: The Art and Skill of Clothing an Early 19th-Century Family explores all the work that went into outfitting the members of a family\, from choosing fabrics and styles\, to making\, mending\, and washing clothes. See gowns\, a tail coat\, and a sampling of children's garments from the early 19th century\, advice and account books\, a c. 1825-1850 washing machine\, and more!
X-ALT-DESC;FMTTYPE=text/html:<span style="color:rgb(29\, 16\, 44)\; font-family:museo sans w01\,helvetica neue\,helvetica\,helvetica\,arial\,sans-serif\; font-size:14px">Have you ever wondered how we know what was made and worn by individuals in the 1830s? During Textile Weekend\, Behind the Scenes &amp\; Seams\, we are highlighting original clothing and textile-related objects from the museum&rsquo\;s permanent collection while creating new copies for side-by-side comparisons and a closer look at how we know what we know about the past.</span><br />\n<br />\n<span style="color:rgb(29\, 16\, 44)\; font-family:museo sans w01\,helvetica neue\,helvetica\,helvetica\,arial\,sans-serif\; font-size:14px">As a follow up to the popular demonstration in 2022\, special activities during this year&rsquo\;s event will include sewing two dresses in real time over the course of the weekend &ndash\; this time for a mother and daughter! Skilled sewists will assemble for two days to complete all the stitches needed to create two dresses\, while periodically trying the dresses on the wearers to test the fit and showcase progress.</span><br />\n<br />\n<span style="color:rgb(29\, 16\, 44)\; font-family:museo sans w01\,helvetica neue\,helvetica\,helvetica\,arial\,sans-serif\; font-size:14px">Other highlighted programming includes:</span><br />\n<br />\n<span style="color:rgb(29\, 16\, 44)\; font-family:museo sans w01\,helvetica neue\,helvetica\,helvetica\,arial\,sans-serif\; font-size:14px">- Wool dyeing demonstrations</span><br />\n<span style="color:rgb(29\, 16\, 44)\; font-family:museo sans w01\,helvetica neue\,helvetica\,helvetica\,arial\,sans-serif\; font-size:14px">- Reproducing wooden and tin sewing boxes based on original examples</span><br />\n<span style="color:rgb(29\, 16\, 44)\; font-family:museo sans w01\,helvetica neue\,helvetica\,helvetica\,arial\,sans-serif\; font-size:14px">- Discussion of 1830s knitting and weaving patterns with skilled needleworkers</span><br />\n<span style="color:rgb(29\, 16\, 44)\; font-family:museo sans w01\,helvetica neue\,helvetica\,helvetica\,arial\,sans-serif\; font-size:14px">- Working with a variety of plants and tools to create straw and palm leaf braid for bonnets and hats</span><br />\n<span style="color:rgb(29\, 16\, 44)\; font-family:museo sans w01\,helvetica neue\,helvetica\,helvetica\,arial\,sans-serif\; font-size:14px">- During your visit by sure to check out our Needle &amp\; Thread exhibit and recently published book.</span><br />\n<br />\n<span style="color:rgb(29\, 16\, 44)\; font-family:museo sans w01\,helvetica neue\,helvetica\,helvetica\,arial\,sans-serif\; font-size:14px">Needle &amp\; Thread: The Art and Skill of Clothing an Early 19th-Century Family explores all the work that went into outfitting the members of a family\, from choosing fabrics and styles\, to making\, mending\, and washing clothes. See gowns\, a tail coat\, and a sampling of children&rsquo\;s garments from the early 19th century\, advice and account books\, a c. 1825-1850 washing machine\, and more!</span>
LOCATION:Old Sturbridge Village 1 Old Sturbridge Village Road\, Sturbridge\, MA\, 01566
UID:e.2083.16044
SEQUENCE:3
DTSTAMP:20260420T205930Z
URL:https://business.cmschamber.org/events/details/textile-weekend-16044
END:VEVENT

END:VCALENDAR
