BEGIN:VCALENDAR
VERSION:2.0
PRODID:-//ChamberMaster//Event Calendar 2.0//EN
METHOD:PUBLISH
X-PUBLISHED-TTL:P3D
REFRESH-INTERVAL:P3D
CALSCALE:GREGORIAN
BEGIN:VEVENT
DTSTART:20230517T130000Z
DTEND:20230517T220000Z
X-MICROSOFT-CDO-ALLDAYEVENT:FALSE
SUMMARY:Veterans Inc. 26th Annual Best Ball Charity Golf Classic
DESCRIPTION:The Annual Best Ball Charity Golf Classic\, hosted by Veterans Inc. at Cyprian Keys Golf Course\, sells out fast and plays a major role in our fundraising efforts\, ensuring that we continue to be there for our 6\,000+ veterans and their families in their times of need. The proceeds raised from this event will go directly to helping support our wrap around programming needs:\n\n \n\n	Individualized treatment plans\n	Counseling\n	Employment training and placement\n	Health and wellness programs\n	Services uniquely tailored to post - 9/11 veterans\n	Programs for women veterans caring for dependent children \n\n \n\nFor more information on how to become a sponsor or register:\n\nhttps://www.veteransinc.org/events/best-ball-charity-golf-classic/\n\n \n\nOr please contact (508) 791-1213 ext.1162 or email golf@veteransinc.org .\n\n \n\nAbout Veterans Inc.\n\nVeterans Inc. is the nation's leading non-profit veteran services provider. A 501(c)3 non-profit\, the organization's single-minded mission is to be there for veterans and their families in their time of need. We are the largest veteran services provider in New England and have recently expanded programs into Montana and North Dakota. Services provided include housing\, homelessness prevention\, employment and training\, counseling and case management\, family support programs\, benefits/healthcare coordination\, suicide prevention\, temporary financial assistance\, food services\, substance use disorder treatment and recovery support\, and women and children services.\n\n \n\n*** Members of the news media are welcome to attend\, photograph\, & broadcast this event ***
X-ALT-DESC;FMTTYPE=text/html:<strong><span style="color:#1A1A1A"><span style="font-family:segoe ui\,sans-serif"><span style="font-size:10.0pt">The Annual Best Ball Charity Golf Classic\, hosted by Veterans Inc. at Cyprian Keys Golf Course\,</span></span></span></strong><span style="color:#1A1A1A"><span style="font-family:segoe ui\,sans-serif"><span style="font-size:10.0pt">&nbsp\;sells out fast and plays a major role in our fundraising efforts\, ensuring that we continue to be there for our <strong>6\,000+</strong> veterans and their families in their times of need. The proceeds raised from this event will go directly to helping support our wrap around programming needs:</span></span></span><br />\n&nbsp\;\n<ul>\n	<li><span style="color:#1A1A1A"><span style="font-family:segoe ui\,sans-serif"><span style="font-size:10.0pt">Individualized treatment plans</span></span></span></li>\n	<li><span style="color:#1A1A1A"><span style="font-family:segoe ui\,sans-serif"><span style="font-size:10.0pt">Counseling</span></span></span></li>\n	<li><span style="color:#1A1A1A"><span style="font-family:segoe ui\,sans-serif"><span style="font-size:10.0pt">Employment training and placement</span></span></span></li>\n	<li><span style="color:#1A1A1A"><span style="font-family:segoe ui\,sans-serif"><span style="font-size:10.0pt">Health and wellness programs</span></span></span></li>\n	<li><span style="color:#1A1A1A"><span style="font-family:segoe ui\,sans-serif"><span style="font-size:10.0pt">Services uniquely tailored to post - 9/11 veterans</span></span></span></li>\n	<li><span style="color:#1A1A1A"><span style="font-family:segoe ui\,sans-serif"><span style="font-size:10.0pt">Programs for women veterans caring for dependent children&nbsp\;</span></span></span></li>\n</ul>\n&nbsp\;<br />\n<strong><span style="color:#1A1A1A"><span style="font-family:segoe ui\,sans-serif"><span style="font-size:10.0pt">For more information on how to become a sponsor or register:</span></span></span></strong><br />\n<a href="https://www.veteransinc.org/events/best-ball-charity-golf-classic/"><strong><span style="font-family:segoe ui\,sans-serif"><span style="font-size:10.0pt">https://www.veteransinc.org/events/best-ball-charity-golf-classic/</span></span></strong></a><br />\n&nbsp\;<br />\n<strong><span style="color:#1A1A1A"><span style="font-family:segoe ui\,sans-serif"><span style="font-size:10.0pt">Or please contact (508) 791-1213 ext.1162 or email&nbsp\;</span></span></span></strong><a href="mailto:golf@veteransinc.org"><strong><span style="font-family:segoe ui\,sans-serif"><span style="font-size:10.0pt">golf@veteransinc.org</span></span></strong></a><strong><span style="color:#1A1A1A"><span style="font-family:segoe ui\,sans-serif"><span style="font-size:10.0pt"> .</span></span></span></strong><br />\n&nbsp\;<br />\n<strong><span style="font-family:segoe ui\,sans-serif">About Veterans Inc.</span></strong><br />\n<span style="font-family:segoe ui\,sans-serif"><span style="font-size:10.0pt">Veterans Inc. is the nation&rsquo\;s leading non-profit veteran services provider. A 501(c)3 non-profit\, the organization&rsquo\;s single-minded mission is to be there for veterans and their families in their time of need. We are the largest veteran services provider in New England and have recently expanded programs into Montana and North Dakota. Services provided include housing\, homelessness prevention\, employment and training\, counseling and case management\, family support programs\, benefits/healthcare coordination\, suicide prevention\, temporary financial assistance\, food services\, substance use disorder treatment and recovery support\, and women and children services.</span></span><br />\n&nbsp\;<br />\n<strong><span style="font-family:segoe ui\,sans-serif">*** <u>Members of the news media are welcome to attend\, photograph\, &amp\; broadcast this event</u> ***</span></strong>
LOCATION:Cyprian Keys Golf Course 284 E Temple St. Boylston\, MA 01505
UID:e.2083.15498
SEQUENCE:3
DTSTAMP:20260421T024659Z
URL:https://business.cmschamber.org/events/details/the-annual-best-ball-charity-golf-classic-15498
END:VEVENT

END:VCALENDAR
