BEGIN:VCALENDAR
VERSION:2.0
PRODID:-//ChamberMaster//Event Calendar 2.0//EN
METHOD:PUBLISH
X-PUBLISHED-TTL:P3D
REFRESH-INTERVAL:P3D
CALSCALE:GREGORIAN
BEGIN:VEVENT
DTSTART:20230302T120000Z
DTEND:20230302T140000Z
X-MICROSOFT-CDO-ALLDAYEVENT:FALSE
SUMMARY:The Breakfast Club - March 2\, 2023
DESCRIPTION:Please join us for this event which features a speaking program\, salutes to area businesses and a networking breakfast.  More than 200 area professionals attend. \n\n\n\nSupporting Sponsorship is available. Reach out to Karen for more information.\n\n\n\nChief Greeter: Melanie Bonsu\, Saint Gobain\n\nKeynote Speaker: Eric Batista\, City Manager\n\n\n\nSalutes include:\n\nColleen Quinn\, New CEO\, Greater Good Imperial Brewing\n\nDiMeco's\, 25th Anniversary\n\nR.H. Companies Inc\, 100th Anniversary\n\nPathway's for Change Inc.\, 50th Anniversary\n\nGregory Weiner\, New President\, Assumption University
X-ALT-DESC;FMTTYPE=text/html:<p><span style="line-height: 20.8px\;">Please join us for this event which features a speaking program\, salutes to area businesses and a networking breakfast.&nbsp\; More than 200&nbsp\;area professionals attend.&nbsp\;</span><br />\n<br />\nSupporting Sponsorship is available. Reach out to&nbsp\;<a href="mailto:kpelletier@worcesterchamber.org">Karen&nbsp\;</a>for more information.<br />\n<br />\nChief Greeter: Melanie Bonsu\, Saint Gobain<br />\nKeynote Speaker: Eric Batista\, City Manager<br />\n<br />\n<u><strong>Salutes include:</strong></u><br />\nColleen Quinn\, New&nbsp\;CEO\, Greater Good Imperial Brewing<br />\nDiMeco&#39\;s\, 25th Anniversary<br />\nR.H. Companies Inc\, 100th Anniversary<br />\nPathway&#39\;s for Change Inc.\, 50th Anniversary<br />\n<span style="color: rgb(51\, 51\, 51)\; font-family: sans-serif\, Arial\, Verdana\, &quot\;Trebuchet MS&quot\;\; font-size: 13px\; background-color: rgb(255\, 255\, 255)\;">Gregory Weiner\,&nbsp\;</span>New President\, Assumption University</p>\n
LOCATION:AC Marriott 125 Front St. Worcester\, MA 01608
UID:e.2083.14806
SEQUENCE:3
DTSTAMP:20260421T055823Z
URL:https://business.cmschamber.org/events/details/the-breakfast-club-march-2-2023-14806
END:VEVENT

END:VCALENDAR
