BEGIN:VCALENDAR
VERSION:2.0
PRODID:-//ChamberMaster//Event Calendar 2.0//EN
METHOD:PUBLISH
X-PUBLISHED-TTL:P3D
REFRESH-INTERVAL:P3D
CALSCALE:GREGORIAN
BEGIN:VEVENT
DTSTART:20221109T170000Z
DTEND:20221109T180000Z
X-MICROSOFT-CDO-ALLDAYEVENT:FALSE
SUMMARY:The Four Financial Pillars - Session I - Budgeting
DESCRIPTION:This workshop will help you understand the importance of budgeting and efficent cash management. At its core\, budgeting's primary function is to ensure an individual or organization has enough resources to meet its financial obligations. Rather for personal or business purposes\, budgeting is critical to financial stability and financial success. During this session we will focus on :\n\n         1) The Budgeting Basics\n\n         2) Cash Flow Management\n\n         3) Allowing your money to work for you
X-ALT-DESC;FMTTYPE=text/html:<p>This workshop will help you understand the importance of budgeting and efficent cash management. At its core\, budgeting&rsquo\;s primary function is to ensure an individual or organization has enough resources to meet its financial obligations. Rather for personal or business purposes\, budgeting is critical to financial stability and financial success. During this session we will focus on :</p>\n\n<p>&nbsp\;&nbsp\;&nbsp\;&nbsp\;&nbsp\;&nbsp\;&nbsp\;&nbsp\;&nbsp\;1) The Budgeting Basics</p>\n\n<p>&nbsp\;&nbsp\;&nbsp\;&nbsp\;&nbsp\;&nbsp\;&nbsp\;&nbsp\;&nbsp\;2) Cash Flow Management</p>\n\n<p>&nbsp\;&nbsp\;&nbsp\;&nbsp\;&nbsp\;&nbsp\;&nbsp\;&nbsp\;&nbsp\;3) Allowing your money to work for you</p>\n
LOCATION:Zoom.
UID:e.2083.14843
SEQUENCE:3
DTSTAMP:20260421T143241Z
URL:https://business.cmschamber.org/events/details/the-four-financial-pillars-session-i-budgeting-14843
END:VEVENT

END:VCALENDAR
