BEGIN:VCALENDAR
VERSION:2.0
PRODID:-//ChamberMaster//Event Calendar 2.0//EN
METHOD:PUBLISH
X-PUBLISHED-TTL:P3D
REFRESH-INTERVAL:P3D
CALSCALE:GREGORIAN
BEGIN:VEVENT
DTSTART:20221130T170000Z
DTEND:20221130T180000Z
X-MICROSOFT-CDO-ALLDAYEVENT:FALSE
SUMMARY:The Four Financial Pillars - Session III - Business Lending
DESCRIPTION:This workshop will focus on business lending and additional resources for businesses. Money obtained from business lending can be critical for growth and scaling of a business. During this session we will focus on: \n\n1) Importance of Business Basics \n\n2) Access to Capital\n\n3) Business Resources
X-ALT-DESC;FMTTYPE=text/html:<p>This workshop will focus on business lending and additional resources for businesses. Money obtained from business lending can be critical for growth and scaling of a business. During this session we will focus on:&nbsp\;</p>\n\n<p>1) Importance of Business Basics&nbsp\;</p>\n\n<p>2) Access to Capital</p>\n\n<p>3) Business Resources&nbsp\;</p>\n
LOCATION:Zoom
UID:e.2083.14852
SEQUENCE:3
DTSTAMP:20260421T130055Z
URL:https://business.cmschamber.org/events/details/the-four-financial-pillars-session-iii-business-lending-14852
END:VEVENT

END:VCALENDAR
