BEGIN:VCALENDAR
VERSION:2.0
PRODID:-//ChamberMaster//Event Calendar 2.0//EN
METHOD:PUBLISH
X-PUBLISHED-TTL:P3D
REFRESH-INTERVAL:P3D
CALSCALE:GREGORIAN
BEGIN:VEVENT
DTSTART:20210226T190000Z
DTEND:20210226T210000Z
X-MICROSOFT-CDO-ALLDAYEVENT:FALSE
SUMMARY:The Golf Connector - Golf Simulator Networking
DESCRIPTION:The Golf Connector Helps Business Professionals Build Better Business Relationships Through Golf & Have More Fun Doing It!\n\n\n\nFriday 2pm-4pm\n\nPine Ridge Golf Club\n\n28 Pleasant St\n\nOxford\, MA\n\n$30/person\n\n\n\nCome Meet other Business Professionals and Have A GREAT Time Doing It!\n\n\n\nText Golf to 508-876-3366 for more info
X-ALT-DESC;FMTTYPE=text/html:The Golf Connector Helps Business Professionals Build Better Business Relationships Through Golf &amp\; Have More Fun Doing It!<br />\n<br />\nFriday 2pm-4pm<br />\nPine Ridge Golf Club<br />\n28 Pleasant St<br />\nOxford\, MA<br />\n$30/person<br />\n<br />\nCome Meet other Business Professionals and Have A GREAT Time Doing It!<br />\n<br />\nText Golf to 508-876-3366 for more info
LOCATION:Pine Ridge Golf Club 28 Pleasant St Oxford\, MA
UID:e.2083.12507
SEQUENCE:3
DTSTAMP:20260422T192406Z
URL:https://business.cmschamber.org/events/details/the-golf-connector-golf-simulator-networking-02-26-2021-12507
END:VEVENT

END:VCALENDAR
