BEGIN:VCALENDAR
VERSION:2.0
PRODID:-//ChamberMaster//Event Calendar 2.0//EN
METHOD:PUBLISH
X-PUBLISHED-TTL:P3D
REFRESH-INTERVAL:P3D
CALSCALE:GREGORIAN
BEGIN:VEVENT
DTSTART:20220602T130000Z
DTEND:20220602T210000Z
X-MICROSOFT-CDO-ALLDAYEVENT:FALSE
SUMMARY:The Profitable Business Roadmap Workshop
DESCRIPTION:Finally an event that will give you the knowledge you need to grow your business and an actual plan to implement in each area of your business before you leave.\n\n\n\nThis hands-on workshop will be taught by our very own CEO and Director of Strategic Marketing\, Jennifer Hernandez. This workshop has been broken down into six important foundational areas that all businesses need to understand and effectively focus on in order to create a consistent flow of new customers and brand exposure.\n\nEach session will be formatted to teach attendees about the subject and then time to work one-on-one with Jennifer to build out their own customized strategy.\n\n \n\nWorkshop Agenda\n\n9AM - 10AM | Making Your Website Work for YOU!\n\nSession 1:  In this session attendees will learn the most important components that their website needs to generate business consistently. These key elements\, once implemented\, will increase capturing the attention of website visitors\, boost the chances of a website visitor engaging with their brand and strategically increase search engine rankings effectively.\n\n10AM - 11AM | Social Media Marketing Made Easy\n\nSession 2: In this session attendees will learn and create their own customized social media strategy for their business. They will also learn time saving techniques to create social media consistently\, types of content that your audiences wants to see and resources to help you get the job done easy!\n\n11AM - 12PM | Converting Customers with Emails\n\nSession 3: In this session attendees will learn creative ways to continue the conversation with your prospective customers via email\, learn proven content that will convert them into customers and best practices on email communications. By the end of this session attendees will have a customized email marketing plan specific to their very own business to implement right away.\n\n12PM - 1PM | Lunch\n\nThis is a free time where attendees can enjoy a break and connect with other business owners. A delicious lunch will be provided from Nuestra to all attendees.\n\n1PM - 2PM | Building Your Lead List\n\nSession 4: In this session attendees will learn how to build a quality lead list to keep you booked and busy. On average it takes potential customers to see your more than 7x before actually contacting you or buying from you. By the end of this session attendees will have their own customized plan on creative ways they can build their lead list every week.\n\n3PM - 4PM | Increasing Your Sales with Referral Relationships\n\nSession 5: In this session we will talk about the power of collaborating and networking to grow your business. By the end of this session attendees will have a complete worksheet highlighting who their potential referral relationships should be and what are your next steps to turn those relationships into an automatic lead generation funnel.\n\n4PM - 5PM | Learning to Analyze Your Monthly Results\n\nSession 6: In this session we will learn how to look at the monthly data of your business and show you what metrics are really important! Understanding how your business is performing lets you make educated decisions for the future. By the end of this session attendees will learn how to analyze their monthly performance and have a fillable Monthly Performance template to bring home to use in their very own business.\n\nSeats are limited. Early registration is encouraged!
X-ALT-DESC;FMTTYPE=text/html:<h2 style="text-align:center !important"><strong><span style="color:#000000">Finally an event that will give you the knowledge you need to grow your business and an actual plan to implement in each area of your business before you leave.</span></strong></h2>\n\n<h4 style="text-align:center !important"><br />\n<span style="font-size:18px !important">This hands-on workshop will be taught by our very own CEO and Director of Strategic Marketing\, Jennifer Hernandez. This workshop has been broken down into six important foundational areas that all businesses need to understand and effectively focus on in order to create a consistent flow of new customers and brand exposure.</span></h4>\n\n<h3 style="text-align:center !important"><em>Each session will be formatted to teach attendees about the subject and then time to work one-on-one with Jennifer to build out their own customized strategy.</em></h3>\n\n<p>&nbsp\;</p>\n\n<h3 style="text-align:center"><strong>Workshop Agenda</strong></h3>\n\n<p><strong>9AM - 10AM |&nbsp\;</strong><strong>Making Your Website Work for YOU!</strong></p>\n\n<p><strong>Session 1:&nbsp\;&nbsp\;</strong>In this session attendees will learn the most important components that their website needs to generate business consistently. These key elements\, once implemented\, will increase capturing the attention of website visitors\, boost the chances of a website visitor engaging with their brand and strategically increase search engine rankings effectively.</p>\n\n<p><strong>10AM - 11AM |&nbsp\;</strong><strong>Social Media Marketing Made Easy</strong></p>\n\n<p><strong>Session 2:</strong>&nbsp\;In this session attendees will learn and create their own customized social media strategy for their business. They will also learn time saving techniques to create social media consistently\, types of content that your audiences wants to see and resources to help you get the job done easy!</p>\n\n<p><strong>11AM - 12PM |&nbsp\;</strong><strong>Converting Customers with Emails</strong></p>\n\n<p><strong>Session 3:&nbsp\;</strong>In this session attendees will learn creative ways to<strong>&nbsp\;</strong>continue the conversation with your prospective customers via email\, learn proven content that will convert them into customers and best practices on email communications. By the end of this session attendees will have a customized email marketing plan specific to their very own business to implement right away.</p>\n\n<p><strong>12PM - 1PM |&nbsp\;</strong><strong>Lunch</strong></p>\n\n<p>This is a free time where attendees can enjoy a break and connect with other business owners. A delicious lunch will be provided from Nuestra to all attendees.</p>\n\n<p><strong>1PM - 2PM |&nbsp\;</strong><strong>Building Your Lead List</strong></p>\n\n<p><strong>Session 4:&nbsp\;</strong>In this session attendees will learn how to build a quality lead list to keep you booked and busy. On average it takes potential customers to see your more than 7x before actually contacting you or buying from you. By the end of this session attendees will have their own customized plan on creative ways they can build their lead list every week.</p>\n\n<p><strong>3PM - 4PM |&nbsp\;</strong><strong>Increasing Your Sales with Referral Relationships</strong></p>\n\n<p><strong>Session 5:&nbsp\;</strong>In this session we will talk about the power of collaborating and networking to grow your business. By the end of this session attendees will have a complete worksheet highlighting who their potential referral relationships should be and what are your next steps to turn those relationships into an automatic lead generation funnel.</p>\n\n<p><strong>4PM - 5PM |&nbsp\;</strong><strong>Learning to</strong><strong>&nbsp\;</strong><strong>Analyze Your Monthly Results</strong><br />\n<strong>Session 6:&nbsp\;</strong>In this session we will learn how to look at the monthly data of your business and show you what metrics are&nbsp\;<em>really</em>&nbsp\;important! Understanding how your business is performing lets you make educated decisions for the future. By the end of this session attendees will learn how to analyze their monthly performance and have a fillable Monthly Performance template to bring home to use in their very own business.</p>\n\n<p>Seats are limited. Early registration is encouraged!&nbsp\;</p>\n
LOCATION:Nuestra 55 Pearl Street Worcester\, MA
UID:e.2083.13938
SEQUENCE:3
DTSTAMP:20260421T214506Z
URL:https://business.cmschamber.org/events/details/the-profitable-business-roadmap-workshop-13938
END:VEVENT

END:VCALENDAR
