BEGIN:VCALENDAR
VERSION:2.0
PRODID:-//ChamberMaster//Event Calendar 2.0//EN
METHOD:PUBLISH
X-PUBLISHED-TTL:P3D
REFRESH-INTERVAL:P3D
CALSCALE:GREGORIAN
BEGIN:VEVENT
DTSTART:20220922T220000Z
DTEND:20220922T230000Z
X-MICROSOFT-CDO-ALLDAYEVENT:FALSE
SUMMARY:The Right Capital for Your Small Business
DESCRIPTION:Obtaining capital at the right time and in the right form is key to business growth and sustainability. With many options available\, the process can be difficult and confusing. This program will provide an overview of these options and a framework for identifying the ones best aligned with your business.
X-ALT-DESC;FMTTYPE=text/html:<span style="color:rgb(0\, 0\, 0)\; font-family:lato\,arial\,helvetica\,sans-serif\; font-size:16px">Obtaining capital at the right time and in the right form is key to business growth and sustainability. With many options available\, the process can be difficult and confusing. This program will provide an overview of these options and a framework for identifying the ones best aligned with your business.</span>
LOCATION:Zoom.
UID:e.2083.14710
SEQUENCE:3
DTSTAMP:20260421T155526Z
URL:https://business.cmschamber.org/events/details/the-right-capital-for-your-small-business-14710
END:VEVENT

END:VCALENDAR
