BEGIN:VCALENDAR
VERSION:2.0
PRODID:-//ChamberMaster//Event Calendar 2.0//EN
METHOD:PUBLISH
X-PUBLISHED-TTL:P3D
REFRESH-INTERVAL:P3D
CALSCALE:GREGORIAN
BEGIN:VEVENT
DTSTART:20231008T160000Z
DTEND:20231008T220000Z
X-MICROSOFT-CDO-ALLDAYEVENT:FALSE
SUMMARY:The Shrewsbury Street Italian Heritage Parade
DESCRIPTION:The Shrewsbury Street Italian Heritage Parade will be marching down Shrewsbury Street beginning at noon on Sunday\, 10.8.23.\n\nBecome a Sponsor or Parade Participant - Visit: www.shrewsburystitalianheritageparade.com\n\nJoin us for a FUN FREE FAMILY DAY!\n\nMille Grazie!!!
X-ALT-DESC;FMTTYPE=text/html:<span style="font-size:15px">The Shrewsbury Street Italian Heritage Parade will be marching down Shrewsbury Street beginning at noon on Sunday\, 10.8.23.</span><br />\nBecome a Sponsor or Parade Participant - Visit: www.shrewsburystitalianheritageparade.com<br />\n<strong>Join us for a&nbsp\;</strong><span style="font-size:15px"><strong>FUN FREE FAMILY DAY!<br />\nMille Grazie!!!</strong></span><br />\n<br />\n<br />\n&nbsp\;
LOCATION:Shrewsbury Street\, Worcester\, MA
UID:e.2083.16029
SEQUENCE:3
DTSTAMP:20260420T171441Z
URL:https://business.cmschamber.org/events/details/the-shrewsbury-street-italian-heritage-parade-16029
END:VEVENT

END:VCALENDAR
