BEGIN:VCALENDAR
VERSION:2.0
PRODID:-//ChamberMaster//Event Calendar 2.0//EN
METHOD:PUBLISH
X-PUBLISHED-TTL:P3D
REFRESH-INTERVAL:P3D
CALSCALE:GREGORIAN
BEGIN:VEVENT
DTSTART:20230930T213000Z
DTEND:20231001T023000Z
X-MICROSOFT-CDO-ALLDAYEVENT:FALSE
SUMMARY:The Shrewsbury Street Italian Heritage Parade 2nd Annual Grand Marshal Ball Award Dinner
DESCRIPTION:The Shrewsbury Street Italian Heritage Parade\n\n2nd Annual Grand Marshal Ball Award Dinner\n\nHonoring SSIHP Grand Marshal J.P. Ricciardi and Parade Mayor John Travaglio\n\nEntertainment by Marco Turo and The Nightlife Orchestra\n\nAfter Party at Pepe's Italian Restaurant \n\nFormal Attire\n\nTickets: https://www.paypal.com/donate/?hosted_button_id=RUTFMKB2C4HR8
X-ALT-DESC;FMTTYPE=text/html:<strong>The Shrewsbury Street Italian Heritage Parade<br />\n2nd Annual Grand Marshal Ball Award Dinner</strong><br />\nHonoring SSIHP Grand Marshal J.P. Ricciardi and Parade Mayor John Travaglio<br />\nEntertainment by Marco Turo and The Nightlife Orchestra<br />\nAfter Party at Pepe&#39\;s Italian Restaurant&nbsp\;<br />\nFormal Attire<br />\nTickets: https://www.paypal.com/donate/?hosted_button_id=RUTFMKB2C4HR8<br />\n<br />\n<br />\n<br />\n<br />\n<br />\n<br />\n<br />\n&nbsp\;
LOCATION:Maxwell Luciano's Banquet Room Union Station 2 Washington Square Worcester\, MA
UID:e.2083.16452
SEQUENCE:3
DTSTAMP:20260420T191002Z
URL:https://business.cmschamber.org/events/details/the-shrewsbury-street-italian-heritage-parade-2nd-annual-grand-marshal-ball-award-dinner-16452
END:VEVENT

END:VCALENDAR
