BEGIN:VCALENDAR
VERSION:2.0
PRODID:-//ChamberMaster//Event Calendar 2.0//EN
METHOD:PUBLISH
X-PUBLISHED-TTL:P3D
REFRESH-INTERVAL:P3D
CALSCALE:GREGORIAN
BEGIN:VEVENT
DTSTART;VALUE=DATE:20250720
DTEND;VALUE=DATE:20250721
TRANSP:TRANSPARENT
X-MICROSOFT-CDO-ALLDAYEVENT:TRUE
SUMMARY:The Sky's the Limit
DESCRIPTION:CASA Project Worcester County and Legendary Legacies are teaming up with local legislators and community advocates for the second annual "The Sky's the Limit"\, a bold and thrilling campaign to support youth and families in Massachusetts. The group of 12 will take to the skies on Sunday\, July 20 to demonstrate their passion for uplifting vulnerable populations in the communities we serve.
X-ALT-DESC;FMTTYPE=text/html:<div>\n<p>CASA Project Worcester County and Legendary Legacies are teaming up with local legislators and community advocates for the second annual&nbsp\;&ldquo\;The Sky&rsquo\;s the Limit&rdquo\;\, a bold and thrilling campaign to support youth and families in Massachusetts. The group of 12 will take to the skies on Sunday\, July 20 to demonstrate their passion for uplifting vulnerable populations in the communities we serve.</p>\n</div>\n
LOCATION:
UID:e.2083.19478
SEQUENCE:3
DTSTAMP:20260421T084054Z
URL:https://business.cmschamber.org/events/details/the-sky-s-the-limit-19478
END:VEVENT

END:VCALENDAR
